BEGIN:VCALENDAR
VERSION:2.0
PRODID:-//Post Road Chorus - ECPv6.15.17.1//NONSGML v1.0//EN
CALSCALE:GREGORIAN
METHOD:PUBLISH
X-WR-CALNAME:Post Road Chorus
X-ORIGINAL-URL:https://postroadchorus.org
X-WR-CALDESC:Events for Post Road Chorus
REFRESH-INTERVAL;VALUE=DURATION:PT1H
X-Robots-Tag:noindex
X-PUBLISHED-TTL:PT1H
BEGIN:VTIMEZONE
TZID:America/New_York
BEGIN:DAYLIGHT
TZOFFSETFROM:-0500
TZOFFSETTO:-0400
TZNAME:EDT
DTSTART:20260308T070000
END:DAYLIGHT
BEGIN:STANDARD
TZOFFSETFROM:-0400
TZOFFSETTO:-0500
TZNAME:EST
DTSTART:20261101T060000
END:STANDARD
BEGIN:DAYLIGHT
TZOFFSETFROM:-0500
TZOFFSETTO:-0400
TZNAME:EDT
DTSTART:20270314T070000
END:DAYLIGHT
BEGIN:STANDARD
TZOFFSETFROM:-0400
TZOFFSETTO:-0500
TZNAME:EST
DTSTART:20271107T060000
END:STANDARD
BEGIN:DAYLIGHT
TZOFFSETFROM:-0500
TZOFFSETTO:-0400
TZNAME:EDT
DTSTART:20280312T070000
END:DAYLIGHT
BEGIN:STANDARD
TZOFFSETFROM:-0400
TZOFFSETTO:-0500
TZNAME:EST
DTSTART:20281105T060000
END:STANDARD
END:VTIMEZONE
BEGIN:VEVENT
DTSTART;TZID=America/New_York:20270330T190000
DTEND;TZID=America/New_York:20270330T213000
DTSTAMP:20260425T113756
CREATED:20241005T225651Z
LAST-MODIFIED:20250716T134811Z
UID:10000188-1806433200-1806442200@postroadchorus.org
SUMMARY:Rehearsal
DESCRIPTION:Join us for an evening of vocal skill-building and singing (plus maybe a little fun) when we meet for our weekly rehearsal. \n \n 
URL:https://postroadchorus.org/event/rehearsal-6-32/2027-03-30/
LOCATION:Briarwood Community Center\, 65 Briarwood Circle\, Worcester\, MA\, 01606\, United States
CATEGORIES:Rehearsal
ATTACH;FMTTYPE=image/png:https://postroadchorus.org/wp-content/uploads/2024/10/Rehearsal.png
GEO:42.3169828;-71.7718395
X-APPLE-STRUCTURED-LOCATION;VALUE=URI;X-ADDRESS=Briarwood Community Center 65 Briarwood Circle Worcester MA 01606 United States;X-APPLE-RADIUS=500;X-TITLE=65 Briarwood Circle:geo:-71.7718395,42.3169828
END:VEVENT
BEGIN:VEVENT
DTSTART;TZID=America/New_York:20270406T190000
DTEND;TZID=America/New_York:20270406T213000
DTSTAMP:20260425T113756
CREATED:20241005T225651Z
LAST-MODIFIED:20250716T134811Z
UID:10000189-1807038000-1807047000@postroadchorus.org
SUMMARY:Rehearsal
DESCRIPTION:Join us for an evening of vocal skill-building and singing (plus maybe a little fun) when we meet for our weekly rehearsal. \n \n 
URL:https://postroadchorus.org/event/rehearsal-6-32/2027-04-06/
LOCATION:Briarwood Community Center\, 65 Briarwood Circle\, Worcester\, MA\, 01606\, United States
CATEGORIES:Rehearsal
ATTACH;FMTTYPE=image/png:https://postroadchorus.org/wp-content/uploads/2024/10/Rehearsal.png
GEO:42.3169828;-71.7718395
X-APPLE-STRUCTURED-LOCATION;VALUE=URI;X-ADDRESS=Briarwood Community Center 65 Briarwood Circle Worcester MA 01606 United States;X-APPLE-RADIUS=500;X-TITLE=65 Briarwood Circle:geo:-71.7718395,42.3169828
END:VEVENT
BEGIN:VEVENT
DTSTART;TZID=America/New_York:20270413T190000
DTEND;TZID=America/New_York:20270413T213000
DTSTAMP:20260425T113756
CREATED:20241005T225651Z
LAST-MODIFIED:20250716T134811Z
UID:10000190-1807642800-1807651800@postroadchorus.org
SUMMARY:Rehearsal
DESCRIPTION:Join us for an evening of vocal skill-building and singing (plus maybe a little fun) when we meet for our weekly rehearsal. \n \n 
URL:https://postroadchorus.org/event/rehearsal-6-32/2027-04-13/
LOCATION:Briarwood Community Center\, 65 Briarwood Circle\, Worcester\, MA\, 01606\, United States
CATEGORIES:Rehearsal
ATTACH;FMTTYPE=image/png:https://postroadchorus.org/wp-content/uploads/2024/10/Rehearsal.png
GEO:42.3169828;-71.7718395
X-APPLE-STRUCTURED-LOCATION;VALUE=URI;X-ADDRESS=Briarwood Community Center 65 Briarwood Circle Worcester MA 01606 United States;X-APPLE-RADIUS=500;X-TITLE=65 Briarwood Circle:geo:-71.7718395,42.3169828
END:VEVENT
BEGIN:VEVENT
DTSTART;TZID=America/New_York:20270420T190000
DTEND;TZID=America/New_York:20270420T213000
DTSTAMP:20260425T113756
CREATED:20241005T225651Z
LAST-MODIFIED:20250716T134811Z
UID:10000191-1808247600-1808256600@postroadchorus.org
SUMMARY:Rehearsal
DESCRIPTION:Join us for an evening of vocal skill-building and singing (plus maybe a little fun) when we meet for our weekly rehearsal. \n \n 
URL:https://postroadchorus.org/event/rehearsal-6-32/2027-04-20/
LOCATION:Briarwood Community Center\, 65 Briarwood Circle\, Worcester\, MA\, 01606\, United States
CATEGORIES:Rehearsal
ATTACH;FMTTYPE=image/png:https://postroadchorus.org/wp-content/uploads/2024/10/Rehearsal.png
GEO:42.3169828;-71.7718395
X-APPLE-STRUCTURED-LOCATION;VALUE=URI;X-ADDRESS=Briarwood Community Center 65 Briarwood Circle Worcester MA 01606 United States;X-APPLE-RADIUS=500;X-TITLE=65 Briarwood Circle:geo:-71.7718395,42.3169828
END:VEVENT
BEGIN:VEVENT
DTSTART;TZID=America/New_York:20270427T190000
DTEND;TZID=America/New_York:20270427T213000
DTSTAMP:20260425T113756
CREATED:20241005T225651Z
LAST-MODIFIED:20250716T134811Z
UID:10000192-1808852400-1808861400@postroadchorus.org
SUMMARY:Rehearsal
DESCRIPTION:Join us for an evening of vocal skill-building and singing (plus maybe a little fun) when we meet for our weekly rehearsal. \n \n 
URL:https://postroadchorus.org/event/rehearsal-6-32/2027-04-27/
LOCATION:Briarwood Community Center\, 65 Briarwood Circle\, Worcester\, MA\, 01606\, United States
CATEGORIES:Rehearsal
ATTACH;FMTTYPE=image/png:https://postroadchorus.org/wp-content/uploads/2024/10/Rehearsal.png
GEO:42.3169828;-71.7718395
X-APPLE-STRUCTURED-LOCATION;VALUE=URI;X-ADDRESS=Briarwood Community Center 65 Briarwood Circle Worcester MA 01606 United States;X-APPLE-RADIUS=500;X-TITLE=65 Briarwood Circle:geo:-71.7718395,42.3169828
END:VEVENT
BEGIN:VEVENT
DTSTART;TZID=America/New_York:20270504T190000
DTEND;TZID=America/New_York:20270504T213000
DTSTAMP:20260425T113756
CREATED:20241005T225651Z
LAST-MODIFIED:20250716T134811Z
UID:10000193-1809457200-1809466200@postroadchorus.org
SUMMARY:Rehearsal
DESCRIPTION:Join us for an evening of vocal skill-building and singing (plus maybe a little fun) when we meet for our weekly rehearsal. \n \n 
URL:https://postroadchorus.org/event/rehearsal-6-32/2027-05-04/
LOCATION:Briarwood Community Center\, 65 Briarwood Circle\, Worcester\, MA\, 01606\, United States
CATEGORIES:Rehearsal
ATTACH;FMTTYPE=image/png:https://postroadchorus.org/wp-content/uploads/2024/10/Rehearsal.png
GEO:42.3169828;-71.7718395
X-APPLE-STRUCTURED-LOCATION;VALUE=URI;X-ADDRESS=Briarwood Community Center 65 Briarwood Circle Worcester MA 01606 United States;X-APPLE-RADIUS=500;X-TITLE=65 Briarwood Circle:geo:-71.7718395,42.3169828
END:VEVENT
BEGIN:VEVENT
DTSTART;TZID=America/New_York:20270511T190000
DTEND;TZID=America/New_York:20270511T213000
DTSTAMP:20260425T113756
CREATED:20241005T225651Z
LAST-MODIFIED:20250716T134811Z
UID:10000194-1810062000-1810071000@postroadchorus.org
SUMMARY:Rehearsal
DESCRIPTION:Join us for an evening of vocal skill-building and singing (plus maybe a little fun) when we meet for our weekly rehearsal. \n \n 
URL:https://postroadchorus.org/event/rehearsal-6-32/2027-05-11/
LOCATION:Briarwood Community Center\, 65 Briarwood Circle\, Worcester\, MA\, 01606\, United States
CATEGORIES:Rehearsal
ATTACH;FMTTYPE=image/png:https://postroadchorus.org/wp-content/uploads/2024/10/Rehearsal.png
GEO:42.3169828;-71.7718395
X-APPLE-STRUCTURED-LOCATION;VALUE=URI;X-ADDRESS=Briarwood Community Center 65 Briarwood Circle Worcester MA 01606 United States;X-APPLE-RADIUS=500;X-TITLE=65 Briarwood Circle:geo:-71.7718395,42.3169828
END:VEVENT
BEGIN:VEVENT
DTSTART;TZID=America/New_York:20270518T190000
DTEND;TZID=America/New_York:20270518T213000
DTSTAMP:20260425T113756
CREATED:20241005T225651Z
LAST-MODIFIED:20250716T134811Z
UID:10000195-1810666800-1810675800@postroadchorus.org
SUMMARY:Rehearsal
DESCRIPTION:Join us for an evening of vocal skill-building and singing (plus maybe a little fun) when we meet for our weekly rehearsal. \n \n 
URL:https://postroadchorus.org/event/rehearsal-6-32/2027-05-18/
LOCATION:Briarwood Community Center\, 65 Briarwood Circle\, Worcester\, MA\, 01606\, United States
CATEGORIES:Rehearsal
ATTACH;FMTTYPE=image/png:https://postroadchorus.org/wp-content/uploads/2024/10/Rehearsal.png
GEO:42.3169828;-71.7718395
X-APPLE-STRUCTURED-LOCATION;VALUE=URI;X-ADDRESS=Briarwood Community Center 65 Briarwood Circle Worcester MA 01606 United States;X-APPLE-RADIUS=500;X-TITLE=65 Briarwood Circle:geo:-71.7718395,42.3169828
END:VEVENT
BEGIN:VEVENT
DTSTART;TZID=America/New_York:20270525T190000
DTEND;TZID=America/New_York:20270525T213000
DTSTAMP:20260425T113756
CREATED:20241005T225651Z
LAST-MODIFIED:20250716T134811Z
UID:10000196-1811271600-1811280600@postroadchorus.org
SUMMARY:Rehearsal
DESCRIPTION:Join us for an evening of vocal skill-building and singing (plus maybe a little fun) when we meet for our weekly rehearsal. \n \n 
URL:https://postroadchorus.org/event/rehearsal-6-32/2027-05-25/
LOCATION:Briarwood Community Center\, 65 Briarwood Circle\, Worcester\, MA\, 01606\, United States
CATEGORIES:Rehearsal
ATTACH;FMTTYPE=image/png:https://postroadchorus.org/wp-content/uploads/2024/10/Rehearsal.png
GEO:42.3169828;-71.7718395
X-APPLE-STRUCTURED-LOCATION;VALUE=URI;X-ADDRESS=Briarwood Community Center 65 Briarwood Circle Worcester MA 01606 United States;X-APPLE-RADIUS=500;X-TITLE=65 Briarwood Circle:geo:-71.7718395,42.3169828
END:VEVENT
BEGIN:VEVENT
DTSTART;TZID=America/New_York:20270601T190000
DTEND;TZID=America/New_York:20270601T213000
DTSTAMP:20260425T113757
CREATED:20241005T225651Z
LAST-MODIFIED:20250716T134811Z
UID:10000197-1811876400-1811885400@postroadchorus.org
SUMMARY:Rehearsal
DESCRIPTION:Join us for an evening of vocal skill-building and singing (plus maybe a little fun) when we meet for our weekly rehearsal. \n \n 
URL:https://postroadchorus.org/event/rehearsal-6-32/2027-06-01/
LOCATION:Briarwood Community Center\, 65 Briarwood Circle\, Worcester\, MA\, 01606\, United States
CATEGORIES:Rehearsal
ATTACH;FMTTYPE=image/png:https://postroadchorus.org/wp-content/uploads/2024/10/Rehearsal.png
GEO:42.3169828;-71.7718395
X-APPLE-STRUCTURED-LOCATION;VALUE=URI;X-ADDRESS=Briarwood Community Center 65 Briarwood Circle Worcester MA 01606 United States;X-APPLE-RADIUS=500;X-TITLE=65 Briarwood Circle:geo:-71.7718395,42.3169828
END:VEVENT
BEGIN:VEVENT
DTSTART;TZID=America/New_York:20270608T190000
DTEND;TZID=America/New_York:20270608T213000
DTSTAMP:20260425T113757
CREATED:20241005T225651Z
LAST-MODIFIED:20250716T134811Z
UID:10000198-1812481200-1812490200@postroadchorus.org
SUMMARY:Rehearsal
DESCRIPTION:Join us for an evening of vocal skill-building and singing (plus maybe a little fun) when we meet for our weekly rehearsal. \n \n 
URL:https://postroadchorus.org/event/rehearsal-6-32/2027-06-08/
LOCATION:Briarwood Community Center\, 65 Briarwood Circle\, Worcester\, MA\, 01606\, United States
CATEGORIES:Rehearsal
ATTACH;FMTTYPE=image/png:https://postroadchorus.org/wp-content/uploads/2024/10/Rehearsal.png
GEO:42.3169828;-71.7718395
X-APPLE-STRUCTURED-LOCATION;VALUE=URI;X-ADDRESS=Briarwood Community Center 65 Briarwood Circle Worcester MA 01606 United States;X-APPLE-RADIUS=500;X-TITLE=65 Briarwood Circle:geo:-71.7718395,42.3169828
END:VEVENT
BEGIN:VEVENT
DTSTART;TZID=America/New_York:20270615T190000
DTEND;TZID=America/New_York:20270615T213000
DTSTAMP:20260425T113757
CREATED:20241005T225651Z
LAST-MODIFIED:20250716T134811Z
UID:10000199-1813086000-1813095000@postroadchorus.org
SUMMARY:Rehearsal
DESCRIPTION:Join us for an evening of vocal skill-building and singing (plus maybe a little fun) when we meet for our weekly rehearsal. \n \n 
URL:https://postroadchorus.org/event/rehearsal-6-32/2027-06-15/
LOCATION:Briarwood Community Center\, 65 Briarwood Circle\, Worcester\, MA\, 01606\, United States
CATEGORIES:Rehearsal
ATTACH;FMTTYPE=image/png:https://postroadchorus.org/wp-content/uploads/2024/10/Rehearsal.png
GEO:42.3169828;-71.7718395
X-APPLE-STRUCTURED-LOCATION;VALUE=URI;X-ADDRESS=Briarwood Community Center 65 Briarwood Circle Worcester MA 01606 United States;X-APPLE-RADIUS=500;X-TITLE=65 Briarwood Circle:geo:-71.7718395,42.3169828
END:VEVENT
BEGIN:VEVENT
DTSTART;TZID=America/New_York:20270622T190000
DTEND;TZID=America/New_York:20270622T213000
DTSTAMP:20260425T113757
CREATED:20241005T225651Z
LAST-MODIFIED:20250716T134811Z
UID:10000200-1813690800-1813699800@postroadchorus.org
SUMMARY:Rehearsal
DESCRIPTION:Join us for an evening of vocal skill-building and singing (plus maybe a little fun) when we meet for our weekly rehearsal. \n \n 
URL:https://postroadchorus.org/event/rehearsal-6-32/2027-06-22/
LOCATION:Briarwood Community Center\, 65 Briarwood Circle\, Worcester\, MA\, 01606\, United States
CATEGORIES:Rehearsal
ATTACH;FMTTYPE=image/png:https://postroadchorus.org/wp-content/uploads/2024/10/Rehearsal.png
GEO:42.3169828;-71.7718395
X-APPLE-STRUCTURED-LOCATION;VALUE=URI;X-ADDRESS=Briarwood Community Center 65 Briarwood Circle Worcester MA 01606 United States;X-APPLE-RADIUS=500;X-TITLE=65 Briarwood Circle:geo:-71.7718395,42.3169828
END:VEVENT
BEGIN:VEVENT
DTSTART;TZID=America/New_York:20270629T190000
DTEND;TZID=America/New_York:20270629T213000
DTSTAMP:20260425T113757
CREATED:20241005T225651Z
LAST-MODIFIED:20250716T134811Z
UID:10000201-1814295600-1814304600@postroadchorus.org
SUMMARY:Rehearsal
DESCRIPTION:Join us for an evening of vocal skill-building and singing (plus maybe a little fun) when we meet for our weekly rehearsal. \n \n 
URL:https://postroadchorus.org/event/rehearsal-6-32/2027-06-29/
LOCATION:Briarwood Community Center\, 65 Briarwood Circle\, Worcester\, MA\, 01606\, United States
CATEGORIES:Rehearsal
ATTACH;FMTTYPE=image/png:https://postroadchorus.org/wp-content/uploads/2024/10/Rehearsal.png
GEO:42.3169828;-71.7718395
X-APPLE-STRUCTURED-LOCATION;VALUE=URI;X-ADDRESS=Briarwood Community Center 65 Briarwood Circle Worcester MA 01606 United States;X-APPLE-RADIUS=500;X-TITLE=65 Briarwood Circle:geo:-71.7718395,42.3169828
END:VEVENT
BEGIN:VEVENT
DTSTART;TZID=America/New_York:20270706T190000
DTEND;TZID=America/New_York:20270706T213000
DTSTAMP:20260425T113757
CREATED:20241005T225651Z
LAST-MODIFIED:20250716T134811Z
UID:10000202-1814900400-1814909400@postroadchorus.org
SUMMARY:Rehearsal
DESCRIPTION:Join us for an evening of vocal skill-building and singing (plus maybe a little fun) when we meet for our weekly rehearsal. \n \n 
URL:https://postroadchorus.org/event/rehearsal-6-32/2027-07-06/
LOCATION:Briarwood Community Center\, 65 Briarwood Circle\, Worcester\, MA\, 01606\, United States
CATEGORIES:Rehearsal
ATTACH;FMTTYPE=image/png:https://postroadchorus.org/wp-content/uploads/2024/10/Rehearsal.png
GEO:42.3169828;-71.7718395
X-APPLE-STRUCTURED-LOCATION;VALUE=URI;X-ADDRESS=Briarwood Community Center 65 Briarwood Circle Worcester MA 01606 United States;X-APPLE-RADIUS=500;X-TITLE=65 Briarwood Circle:geo:-71.7718395,42.3169828
END:VEVENT
BEGIN:VEVENT
DTSTART;TZID=America/New_York:20270713T190000
DTEND;TZID=America/New_York:20270713T213000
DTSTAMP:20260425T113757
CREATED:20241005T225651Z
LAST-MODIFIED:20250716T134811Z
UID:10000203-1815505200-1815514200@postroadchorus.org
SUMMARY:Rehearsal
DESCRIPTION:Join us for an evening of vocal skill-building and singing (plus maybe a little fun) when we meet for our weekly rehearsal. \n \n 
URL:https://postroadchorus.org/event/rehearsal-6-32/2027-07-13/
LOCATION:Briarwood Community Center\, 65 Briarwood Circle\, Worcester\, MA\, 01606\, United States
CATEGORIES:Rehearsal
ATTACH;FMTTYPE=image/png:https://postroadchorus.org/wp-content/uploads/2024/10/Rehearsal.png
GEO:42.3169828;-71.7718395
X-APPLE-STRUCTURED-LOCATION;VALUE=URI;X-ADDRESS=Briarwood Community Center 65 Briarwood Circle Worcester MA 01606 United States;X-APPLE-RADIUS=500;X-TITLE=65 Briarwood Circle:geo:-71.7718395,42.3169828
END:VEVENT
BEGIN:VEVENT
DTSTART;TZID=America/New_York:20270720T190000
DTEND;TZID=America/New_York:20270720T213000
DTSTAMP:20260425T113757
CREATED:20241005T225651Z
LAST-MODIFIED:20250716T134811Z
UID:10000204-1816110000-1816119000@postroadchorus.org
SUMMARY:Rehearsal
DESCRIPTION:Join us for an evening of vocal skill-building and singing (plus maybe a little fun) when we meet for our weekly rehearsal. \n \n 
URL:https://postroadchorus.org/event/rehearsal-6-32/2027-07-20/
LOCATION:Briarwood Community Center\, 65 Briarwood Circle\, Worcester\, MA\, 01606\, United States
CATEGORIES:Rehearsal
ATTACH;FMTTYPE=image/png:https://postroadchorus.org/wp-content/uploads/2024/10/Rehearsal.png
GEO:42.3169828;-71.7718395
X-APPLE-STRUCTURED-LOCATION;VALUE=URI;X-ADDRESS=Briarwood Community Center 65 Briarwood Circle Worcester MA 01606 United States;X-APPLE-RADIUS=500;X-TITLE=65 Briarwood Circle:geo:-71.7718395,42.3169828
END:VEVENT
BEGIN:VEVENT
DTSTART;TZID=America/New_York:20270727T190000
DTEND;TZID=America/New_York:20270727T213000
DTSTAMP:20260425T113757
CREATED:20241005T225651Z
LAST-MODIFIED:20250716T134811Z
UID:10000205-1816714800-1816723800@postroadchorus.org
SUMMARY:Rehearsal
DESCRIPTION:Join us for an evening of vocal skill-building and singing (plus maybe a little fun) when we meet for our weekly rehearsal. \n \n 
URL:https://postroadchorus.org/event/rehearsal-6-32/2027-07-27/
LOCATION:Briarwood Community Center\, 65 Briarwood Circle\, Worcester\, MA\, 01606\, United States
CATEGORIES:Rehearsal
ATTACH;FMTTYPE=image/png:https://postroadchorus.org/wp-content/uploads/2024/10/Rehearsal.png
GEO:42.3169828;-71.7718395
X-APPLE-STRUCTURED-LOCATION;VALUE=URI;X-ADDRESS=Briarwood Community Center 65 Briarwood Circle Worcester MA 01606 United States;X-APPLE-RADIUS=500;X-TITLE=65 Briarwood Circle:geo:-71.7718395,42.3169828
END:VEVENT
BEGIN:VEVENT
DTSTART;TZID=America/New_York:20270803T190000
DTEND;TZID=America/New_York:20270803T213000
DTSTAMP:20260425T113757
CREATED:20241005T225651Z
LAST-MODIFIED:20250716T134811Z
UID:10000206-1817319600-1817328600@postroadchorus.org
SUMMARY:Rehearsal
DESCRIPTION:Join us for an evening of vocal skill-building and singing (plus maybe a little fun) when we meet for our weekly rehearsal. \n \n 
URL:https://postroadchorus.org/event/rehearsal-6-32/2027-08-03/
LOCATION:Briarwood Community Center\, 65 Briarwood Circle\, Worcester\, MA\, 01606\, United States
CATEGORIES:Rehearsal
ATTACH;FMTTYPE=image/png:https://postroadchorus.org/wp-content/uploads/2024/10/Rehearsal.png
GEO:42.3169828;-71.7718395
X-APPLE-STRUCTURED-LOCATION;VALUE=URI;X-ADDRESS=Briarwood Community Center 65 Briarwood Circle Worcester MA 01606 United States;X-APPLE-RADIUS=500;X-TITLE=65 Briarwood Circle:geo:-71.7718395,42.3169828
END:VEVENT
BEGIN:VEVENT
DTSTART;TZID=America/New_York:20270810T190000
DTEND;TZID=America/New_York:20270810T213000
DTSTAMP:20260425T113757
CREATED:20241005T225651Z
LAST-MODIFIED:20250716T134811Z
UID:10000207-1817924400-1817933400@postroadchorus.org
SUMMARY:Rehearsal
DESCRIPTION:Join us for an evening of vocal skill-building and singing (plus maybe a little fun) when we meet for our weekly rehearsal. \n \n 
URL:https://postroadchorus.org/event/rehearsal-6-32/2027-08-10/
LOCATION:Briarwood Community Center\, 65 Briarwood Circle\, Worcester\, MA\, 01606\, United States
CATEGORIES:Rehearsal
ATTACH;FMTTYPE=image/png:https://postroadchorus.org/wp-content/uploads/2024/10/Rehearsal.png
GEO:42.3169828;-71.7718395
X-APPLE-STRUCTURED-LOCATION;VALUE=URI;X-ADDRESS=Briarwood Community Center 65 Briarwood Circle Worcester MA 01606 United States;X-APPLE-RADIUS=500;X-TITLE=65 Briarwood Circle:geo:-71.7718395,42.3169828
END:VEVENT
BEGIN:VEVENT
DTSTART;TZID=America/New_York:20270817T190000
DTEND;TZID=America/New_York:20270817T213000
DTSTAMP:20260425T113757
CREATED:20241005T225651Z
LAST-MODIFIED:20250716T134811Z
UID:10000208-1818529200-1818538200@postroadchorus.org
SUMMARY:Rehearsal
DESCRIPTION:Join us for an evening of vocal skill-building and singing (plus maybe a little fun) when we meet for our weekly rehearsal. \n \n 
URL:https://postroadchorus.org/event/rehearsal-6-32/2027-08-17/
LOCATION:Briarwood Community Center\, 65 Briarwood Circle\, Worcester\, MA\, 01606\, United States
CATEGORIES:Rehearsal
ATTACH;FMTTYPE=image/png:https://postroadchorus.org/wp-content/uploads/2024/10/Rehearsal.png
GEO:42.3169828;-71.7718395
X-APPLE-STRUCTURED-LOCATION;VALUE=URI;X-ADDRESS=Briarwood Community Center 65 Briarwood Circle Worcester MA 01606 United States;X-APPLE-RADIUS=500;X-TITLE=65 Briarwood Circle:geo:-71.7718395,42.3169828
END:VEVENT
BEGIN:VEVENT
DTSTART;TZID=America/New_York:20270824T190000
DTEND;TZID=America/New_York:20270824T213000
DTSTAMP:20260425T113757
CREATED:20241005T225651Z
LAST-MODIFIED:20250716T134811Z
UID:10000209-1819134000-1819143000@postroadchorus.org
SUMMARY:Rehearsal
DESCRIPTION:Join us for an evening of vocal skill-building and singing (plus maybe a little fun) when we meet for our weekly rehearsal. \n \n 
URL:https://postroadchorus.org/event/rehearsal-6-32/2027-08-24/
LOCATION:Briarwood Community Center\, 65 Briarwood Circle\, Worcester\, MA\, 01606\, United States
CATEGORIES:Rehearsal
ATTACH;FMTTYPE=image/png:https://postroadchorus.org/wp-content/uploads/2024/10/Rehearsal.png
GEO:42.3169828;-71.7718395
X-APPLE-STRUCTURED-LOCATION;VALUE=URI;X-ADDRESS=Briarwood Community Center 65 Briarwood Circle Worcester MA 01606 United States;X-APPLE-RADIUS=500;X-TITLE=65 Briarwood Circle:geo:-71.7718395,42.3169828
END:VEVENT
BEGIN:VEVENT
DTSTART;TZID=America/New_York:20270831T190000
DTEND;TZID=America/New_York:20270831T213000
DTSTAMP:20260425T113757
CREATED:20241005T225651Z
LAST-MODIFIED:20250716T134811Z
UID:10000210-1819738800-1819747800@postroadchorus.org
SUMMARY:Rehearsal
DESCRIPTION:Join us for an evening of vocal skill-building and singing (plus maybe a little fun) when we meet for our weekly rehearsal. \n \n 
URL:https://postroadchorus.org/event/rehearsal-6-32/2027-08-31/
LOCATION:Briarwood Community Center\, 65 Briarwood Circle\, Worcester\, MA\, 01606\, United States
CATEGORIES:Rehearsal
ATTACH;FMTTYPE=image/png:https://postroadchorus.org/wp-content/uploads/2024/10/Rehearsal.png
GEO:42.3169828;-71.7718395
X-APPLE-STRUCTURED-LOCATION;VALUE=URI;X-ADDRESS=Briarwood Community Center 65 Briarwood Circle Worcester MA 01606 United States;X-APPLE-RADIUS=500;X-TITLE=65 Briarwood Circle:geo:-71.7718395,42.3169828
END:VEVENT
BEGIN:VEVENT
DTSTART;TZID=America/New_York:20270907T190000
DTEND;TZID=America/New_York:20270907T213000
DTSTAMP:20260425T113757
CREATED:20241005T225651Z
LAST-MODIFIED:20250716T134811Z
UID:10000211-1820343600-1820352600@postroadchorus.org
SUMMARY:Rehearsal
DESCRIPTION:Join us for an evening of vocal skill-building and singing (plus maybe a little fun) when we meet for our weekly rehearsal. \n \n 
URL:https://postroadchorus.org/event/rehearsal-6-32/2027-09-07/
LOCATION:Briarwood Community Center\, 65 Briarwood Circle\, Worcester\, MA\, 01606\, United States
CATEGORIES:Rehearsal
ATTACH;FMTTYPE=image/png:https://postroadchorus.org/wp-content/uploads/2024/10/Rehearsal.png
GEO:42.3169828;-71.7718395
X-APPLE-STRUCTURED-LOCATION;VALUE=URI;X-ADDRESS=Briarwood Community Center 65 Briarwood Circle Worcester MA 01606 United States;X-APPLE-RADIUS=500;X-TITLE=65 Briarwood Circle:geo:-71.7718395,42.3169828
END:VEVENT
BEGIN:VEVENT
DTSTART;TZID=America/New_York:20270914T190000
DTEND;TZID=America/New_York:20270914T213000
DTSTAMP:20260425T113757
CREATED:20241005T225651Z
LAST-MODIFIED:20250716T134811Z
UID:10000212-1820948400-1820957400@postroadchorus.org
SUMMARY:Rehearsal
DESCRIPTION:Join us for an evening of vocal skill-building and singing (plus maybe a little fun) when we meet for our weekly rehearsal. \n \n 
URL:https://postroadchorus.org/event/rehearsal-6-32/2027-09-14/
LOCATION:Briarwood Community Center\, 65 Briarwood Circle\, Worcester\, MA\, 01606\, United States
CATEGORIES:Rehearsal
ATTACH;FMTTYPE=image/png:https://postroadchorus.org/wp-content/uploads/2024/10/Rehearsal.png
GEO:42.3169828;-71.7718395
X-APPLE-STRUCTURED-LOCATION;VALUE=URI;X-ADDRESS=Briarwood Community Center 65 Briarwood Circle Worcester MA 01606 United States;X-APPLE-RADIUS=500;X-TITLE=65 Briarwood Circle:geo:-71.7718395,42.3169828
END:VEVENT
BEGIN:VEVENT
DTSTART;TZID=America/New_York:20270921T190000
DTEND;TZID=America/New_York:20270921T213000
DTSTAMP:20260425T113757
CREATED:20241005T225651Z
LAST-MODIFIED:20250716T134811Z
UID:10000213-1821553200-1821562200@postroadchorus.org
SUMMARY:Rehearsal
DESCRIPTION:Join us for an evening of vocal skill-building and singing (plus maybe a little fun) when we meet for our weekly rehearsal. \n \n 
URL:https://postroadchorus.org/event/rehearsal-6-32/2027-09-21/
LOCATION:Briarwood Community Center\, 65 Briarwood Circle\, Worcester\, MA\, 01606\, United States
CATEGORIES:Rehearsal
ATTACH;FMTTYPE=image/png:https://postroadchorus.org/wp-content/uploads/2024/10/Rehearsal.png
GEO:42.3169828;-71.7718395
X-APPLE-STRUCTURED-LOCATION;VALUE=URI;X-ADDRESS=Briarwood Community Center 65 Briarwood Circle Worcester MA 01606 United States;X-APPLE-RADIUS=500;X-TITLE=65 Briarwood Circle:geo:-71.7718395,42.3169828
END:VEVENT
BEGIN:VEVENT
DTSTART;TZID=America/New_York:20270928T190000
DTEND;TZID=America/New_York:20270928T213000
DTSTAMP:20260425T113757
CREATED:20241005T225651Z
LAST-MODIFIED:20250716T134811Z
UID:10000214-1822158000-1822167000@postroadchorus.org
SUMMARY:Rehearsal
DESCRIPTION:Join us for an evening of vocal skill-building and singing (plus maybe a little fun) when we meet for our weekly rehearsal. \n \n 
URL:https://postroadchorus.org/event/rehearsal-6-32/2027-09-28/
LOCATION:Briarwood Community Center\, 65 Briarwood Circle\, Worcester\, MA\, 01606\, United States
CATEGORIES:Rehearsal
ATTACH;FMTTYPE=image/png:https://postroadchorus.org/wp-content/uploads/2024/10/Rehearsal.png
GEO:42.3169828;-71.7718395
X-APPLE-STRUCTURED-LOCATION;VALUE=URI;X-ADDRESS=Briarwood Community Center 65 Briarwood Circle Worcester MA 01606 United States;X-APPLE-RADIUS=500;X-TITLE=65 Briarwood Circle:geo:-71.7718395,42.3169828
END:VEVENT
BEGIN:VEVENT
DTSTART;TZID=America/New_York:20271005T190000
DTEND;TZID=America/New_York:20271005T213000
DTSTAMP:20260425T113757
CREATED:20241005T225651Z
LAST-MODIFIED:20250716T134811Z
UID:10000215-1822762800-1822771800@postroadchorus.org
SUMMARY:Rehearsal
DESCRIPTION:Join us for an evening of vocal skill-building and singing (plus maybe a little fun) when we meet for our weekly rehearsal. \n \n 
URL:https://postroadchorus.org/event/rehearsal-6-32/2027-10-05/
LOCATION:Briarwood Community Center\, 65 Briarwood Circle\, Worcester\, MA\, 01606\, United States
CATEGORIES:Rehearsal
ATTACH;FMTTYPE=image/png:https://postroadchorus.org/wp-content/uploads/2024/10/Rehearsal.png
GEO:42.3169828;-71.7718395
X-APPLE-STRUCTURED-LOCATION;VALUE=URI;X-ADDRESS=Briarwood Community Center 65 Briarwood Circle Worcester MA 01606 United States;X-APPLE-RADIUS=500;X-TITLE=65 Briarwood Circle:geo:-71.7718395,42.3169828
END:VEVENT
BEGIN:VEVENT
DTSTART;TZID=America/New_York:20271012T190000
DTEND;TZID=America/New_York:20271012T213000
DTSTAMP:20260425T113757
CREATED:20241005T225651Z
LAST-MODIFIED:20250716T134811Z
UID:10000216-1823367600-1823376600@postroadchorus.org
SUMMARY:Rehearsal
DESCRIPTION:Join us for an evening of vocal skill-building and singing (plus maybe a little fun) when we meet for our weekly rehearsal. \n \n 
URL:https://postroadchorus.org/event/rehearsal-6-32/2027-10-12/
LOCATION:Briarwood Community Center\, 65 Briarwood Circle\, Worcester\, MA\, 01606\, United States
CATEGORIES:Rehearsal
ATTACH;FMTTYPE=image/png:https://postroadchorus.org/wp-content/uploads/2024/10/Rehearsal.png
GEO:42.3169828;-71.7718395
X-APPLE-STRUCTURED-LOCATION;VALUE=URI;X-ADDRESS=Briarwood Community Center 65 Briarwood Circle Worcester MA 01606 United States;X-APPLE-RADIUS=500;X-TITLE=65 Briarwood Circle:geo:-71.7718395,42.3169828
END:VEVENT
BEGIN:VEVENT
DTSTART;TZID=America/New_York:20271019T190000
DTEND;TZID=America/New_York:20271019T213000
DTSTAMP:20260425T113757
CREATED:20241005T225651Z
LAST-MODIFIED:20250716T134811Z
UID:10000217-1823972400-1823981400@postroadchorus.org
SUMMARY:Rehearsal
DESCRIPTION:Join us for an evening of vocal skill-building and singing (plus maybe a little fun) when we meet for our weekly rehearsal. \n \n 
URL:https://postroadchorus.org/event/rehearsal-6-32/2027-10-19/
LOCATION:Briarwood Community Center\, 65 Briarwood Circle\, Worcester\, MA\, 01606\, United States
CATEGORIES:Rehearsal
ATTACH;FMTTYPE=image/png:https://postroadchorus.org/wp-content/uploads/2024/10/Rehearsal.png
GEO:42.3169828;-71.7718395
X-APPLE-STRUCTURED-LOCATION;VALUE=URI;X-ADDRESS=Briarwood Community Center 65 Briarwood Circle Worcester MA 01606 United States;X-APPLE-RADIUS=500;X-TITLE=65 Briarwood Circle:geo:-71.7718395,42.3169828
END:VEVENT
END:VCALENDAR