BEGIN:VCALENDAR
VERSION:2.0
PRODID:-//Post Road Chorus - ECPv6.15.17.1//NONSGML v1.0//EN
CALSCALE:GREGORIAN
METHOD:PUBLISH
X-WR-CALNAME:Post Road Chorus
X-ORIGINAL-URL:https://postroadchorus.org
X-WR-CALDESC:Events for Post Road Chorus
REFRESH-INTERVAL;VALUE=DURATION:PT1H
X-Robots-Tag:noindex
X-PUBLISHED-TTL:PT1H
BEGIN:VTIMEZONE
TZID:America/New_York
BEGIN:DAYLIGHT
TZOFFSETFROM:-0500
TZOFFSETTO:-0400
TZNAME:EDT
DTSTART:20230312T070000
END:DAYLIGHT
BEGIN:STANDARD
TZOFFSETFROM:-0400
TZOFFSETTO:-0500
TZNAME:EST
DTSTART:20231105T060000
END:STANDARD
BEGIN:DAYLIGHT
TZOFFSETFROM:-0500
TZOFFSETTO:-0400
TZNAME:EDT
DTSTART:20240310T070000
END:DAYLIGHT
BEGIN:STANDARD
TZOFFSETFROM:-0400
TZOFFSETTO:-0500
TZNAME:EST
DTSTART:20241103T060000
END:STANDARD
BEGIN:DAYLIGHT
TZOFFSETFROM:-0500
TZOFFSETTO:-0400
TZNAME:EDT
DTSTART:20250309T070000
END:DAYLIGHT
BEGIN:STANDARD
TZOFFSETFROM:-0400
TZOFFSETTO:-0500
TZNAME:EST
DTSTART:20251102T060000
END:STANDARD
END:VTIMEZONE
BEGIN:VEVENT
DTSTART;TZID=America/New_York:20241212T190000
DTEND;TZID=America/New_York:20241212T200000
DTSTAMP:20260426T000759
CREATED:20241002T134329Z
LAST-MODIFIED:20241028T022439Z
UID:10000456-1734030000-1734033600@postroadchorus.org
SUMMARY:Asa Waters Mansion Performance
DESCRIPTION:Our chorus will perform holiday music at the Asa Waters Mansion in Millbury\, MA at 7 pm
URL:https://postroadchorus.org/event/asa-waters-mansion-performance/
LOCATION:Asa Waters Mansion\, Elm Street 123\, Millbury\, MA\, 01527\, United States
CATEGORIES:Performance
ATTACH;FMTTYPE=image/jpeg:https://postroadchorus.org/wp-content/uploads/2024/10/50105046671_8d43b038f4.jpg
GEO:42.1900454;-71.7622408
X-APPLE-STRUCTURED-LOCATION;VALUE=URI;X-ADDRESS=Asa Waters Mansion Elm Street 123 Millbury MA 01527 United States;X-APPLE-RADIUS=500;X-TITLE=Elm Street 123:geo:-71.7622408,42.1900454
END:VEVENT
END:VCALENDAR