BEGIN:VCALENDAR
VERSION:2.0
PRODID:-//Post Road Chorus - ECPv6.15.17.1//NONSGML v1.0//EN
CALSCALE:GREGORIAN
METHOD:PUBLISH
X-WR-CALNAME:Post Road Chorus
X-ORIGINAL-URL:https://postroadchorus.org
X-WR-CALDESC:Events for Post Road Chorus
REFRESH-INTERVAL;VALUE=DURATION:PT1H
X-Robots-Tag:noindex
X-PUBLISHED-TTL:PT1H
BEGIN:VTIMEZONE
TZID:America/New_York
BEGIN:DAYLIGHT
TZOFFSETFROM:-0500
TZOFFSETTO:-0400
TZNAME:EDT
DTSTART:20250309T070000
END:DAYLIGHT
BEGIN:STANDARD
TZOFFSETFROM:-0400
TZOFFSETTO:-0500
TZNAME:EST
DTSTART:20251102T060000
END:STANDARD
BEGIN:DAYLIGHT
TZOFFSETFROM:-0500
TZOFFSETTO:-0400
TZNAME:EDT
DTSTART:20260308T070000
END:DAYLIGHT
BEGIN:STANDARD
TZOFFSETFROM:-0400
TZOFFSETTO:-0500
TZNAME:EST
DTSTART:20261101T060000
END:STANDARD
BEGIN:DAYLIGHT
TZOFFSETFROM:-0500
TZOFFSETTO:-0400
TZNAME:EDT
DTSTART:20270314T070000
END:DAYLIGHT
BEGIN:STANDARD
TZOFFSETFROM:-0400
TZOFFSETTO:-0500
TZNAME:EST
DTSTART:20271107T060000
END:STANDARD
END:VTIMEZONE
BEGIN:VEVENT
DTSTART;TZID=America/New_York:20260901T190000
DTEND;TZID=America/New_York:20260901T213000
DTSTAMP:20260425T000855
CREATED:20241005T225651Z
LAST-MODIFIED:20250716T134811Z
UID:10000158-1788289200-1788298200@postroadchorus.org
SUMMARY:Rehearsal
DESCRIPTION:Join us for an evening of vocal skill-building and singing (plus maybe a little fun) when we meet for our weekly rehearsal. \n \n 
URL:https://postroadchorus.org/event/rehearsal-6-32/2026-09-01/
LOCATION:Briarwood Community Center\, 65 Briarwood Circle\, Worcester\, MA\, 01606\, United States
CATEGORIES:Rehearsal
ATTACH;FMTTYPE=image/png:https://postroadchorus.org/wp-content/uploads/2024/10/Rehearsal.png
GEO:42.3169828;-71.7718395
X-APPLE-STRUCTURED-LOCATION;VALUE=URI;X-ADDRESS=Briarwood Community Center 65 Briarwood Circle Worcester MA 01606 United States;X-APPLE-RADIUS=500;X-TITLE=65 Briarwood Circle:geo:-71.7718395,42.3169828
END:VEVENT
BEGIN:VEVENT
DTSTART;TZID=America/New_York:20260908T190000
DTEND;TZID=America/New_York:20260908T213000
DTSTAMP:20260425T000855
CREATED:20241005T225651Z
LAST-MODIFIED:20250716T134811Z
UID:10000159-1788894000-1788903000@postroadchorus.org
SUMMARY:Rehearsal
DESCRIPTION:Join us for an evening of vocal skill-building and singing (plus maybe a little fun) when we meet for our weekly rehearsal. \n \n 
URL:https://postroadchorus.org/event/rehearsal-6-32/2026-09-08/
LOCATION:Briarwood Community Center\, 65 Briarwood Circle\, Worcester\, MA\, 01606\, United States
CATEGORIES:Rehearsal
ATTACH;FMTTYPE=image/png:https://postroadchorus.org/wp-content/uploads/2024/10/Rehearsal.png
GEO:42.3169828;-71.7718395
X-APPLE-STRUCTURED-LOCATION;VALUE=URI;X-ADDRESS=Briarwood Community Center 65 Briarwood Circle Worcester MA 01606 United States;X-APPLE-RADIUS=500;X-TITLE=65 Briarwood Circle:geo:-71.7718395,42.3169828
END:VEVENT
BEGIN:VEVENT
DTSTART;TZID=America/New_York:20260915T190000
DTEND;TZID=America/New_York:20260915T213000
DTSTAMP:20260425T000855
CREATED:20241005T225651Z
LAST-MODIFIED:20250716T134811Z
UID:10000160-1789498800-1789507800@postroadchorus.org
SUMMARY:Rehearsal
DESCRIPTION:Join us for an evening of vocal skill-building and singing (plus maybe a little fun) when we meet for our weekly rehearsal. \n \n 
URL:https://postroadchorus.org/event/rehearsal-6-32/2026-09-15/
LOCATION:Briarwood Community Center\, 65 Briarwood Circle\, Worcester\, MA\, 01606\, United States
CATEGORIES:Rehearsal
ATTACH;FMTTYPE=image/png:https://postroadchorus.org/wp-content/uploads/2024/10/Rehearsal.png
GEO:42.3169828;-71.7718395
X-APPLE-STRUCTURED-LOCATION;VALUE=URI;X-ADDRESS=Briarwood Community Center 65 Briarwood Circle Worcester MA 01606 United States;X-APPLE-RADIUS=500;X-TITLE=65 Briarwood Circle:geo:-71.7718395,42.3169828
END:VEVENT
BEGIN:VEVENT
DTSTART;TZID=America/New_York:20260922T190000
DTEND;TZID=America/New_York:20260922T213000
DTSTAMP:20260425T000855
CREATED:20241005T225651Z
LAST-MODIFIED:20250716T134811Z
UID:10000161-1790103600-1790112600@postroadchorus.org
SUMMARY:Rehearsal
DESCRIPTION:Join us for an evening of vocal skill-building and singing (plus maybe a little fun) when we meet for our weekly rehearsal. \n \n 
URL:https://postroadchorus.org/event/rehearsal-6-32/2026-09-22/
LOCATION:Briarwood Community Center\, 65 Briarwood Circle\, Worcester\, MA\, 01606\, United States
CATEGORIES:Rehearsal
ATTACH;FMTTYPE=image/png:https://postroadchorus.org/wp-content/uploads/2024/10/Rehearsal.png
GEO:42.3169828;-71.7718395
X-APPLE-STRUCTURED-LOCATION;VALUE=URI;X-ADDRESS=Briarwood Community Center 65 Briarwood Circle Worcester MA 01606 United States;X-APPLE-RADIUS=500;X-TITLE=65 Briarwood Circle:geo:-71.7718395,42.3169828
END:VEVENT
BEGIN:VEVENT
DTSTART;TZID=America/New_York:20260929T190000
DTEND;TZID=America/New_York:20260929T213000
DTSTAMP:20260425T000855
CREATED:20241005T225651Z
LAST-MODIFIED:20250716T134811Z
UID:10000162-1790708400-1790717400@postroadchorus.org
SUMMARY:Rehearsal
DESCRIPTION:Join us for an evening of vocal skill-building and singing (plus maybe a little fun) when we meet for our weekly rehearsal. \n \n 
URL:https://postroadchorus.org/event/rehearsal-6-32/2026-09-29/
LOCATION:Briarwood Community Center\, 65 Briarwood Circle\, Worcester\, MA\, 01606\, United States
CATEGORIES:Rehearsal
ATTACH;FMTTYPE=image/png:https://postroadchorus.org/wp-content/uploads/2024/10/Rehearsal.png
GEO:42.3169828;-71.7718395
X-APPLE-STRUCTURED-LOCATION;VALUE=URI;X-ADDRESS=Briarwood Community Center 65 Briarwood Circle Worcester MA 01606 United States;X-APPLE-RADIUS=500;X-TITLE=65 Briarwood Circle:geo:-71.7718395,42.3169828
END:VEVENT
END:VCALENDAR