BEGIN:VCALENDAR
VERSION:2.0
PRODID:-//Post Road Chorus - ECPv6.15.17.1//NONSGML v1.0//EN
CALSCALE:GREGORIAN
METHOD:PUBLISH
X-ORIGINAL-URL:https://postroadchorus.org
X-WR-CALDESC:Events for Post Road Chorus
REFRESH-INTERVAL;VALUE=DURATION:PT1H
X-Robots-Tag:noindex
X-PUBLISHED-TTL:PT1H
BEGIN:VTIMEZONE
TZID:America/New_York
BEGIN:DAYLIGHT
TZOFFSETFROM:-0500
TZOFFSETTO:-0400
TZNAME:EDT
DTSTART:20240310T070000
END:DAYLIGHT
BEGIN:STANDARD
TZOFFSETFROM:-0400
TZOFFSETTO:-0500
TZNAME:EST
DTSTART:20241103T060000
END:STANDARD
BEGIN:DAYLIGHT
TZOFFSETFROM:-0500
TZOFFSETTO:-0400
TZNAME:EDT
DTSTART:20250309T070000
END:DAYLIGHT
BEGIN:STANDARD
TZOFFSETFROM:-0400
TZOFFSETTO:-0500
TZNAME:EST
DTSTART:20251102T060000
END:STANDARD
BEGIN:DAYLIGHT
TZOFFSETFROM:-0500
TZOFFSETTO:-0400
TZNAME:EDT
DTSTART:20260308T070000
END:DAYLIGHT
BEGIN:STANDARD
TZOFFSETFROM:-0400
TZOFFSETTO:-0500
TZNAME:EST
DTSTART:20261101T060000
END:STANDARD
BEGIN:DAYLIGHT
TZOFFSETFROM:-0500
TZOFFSETTO:-0400
TZNAME:EDT
DTSTART:20270314T070000
END:DAYLIGHT
BEGIN:STANDARD
TZOFFSETFROM:-0400
TZOFFSETTO:-0500
TZNAME:EST
DTSTART:20271107T060000
END:STANDARD
END:VTIMEZONE
BEGIN:VEVENT
DTSTART;TZID=America/New_York:20250902T190000
DTEND;TZID=America/New_York:20250902T213000
DTSTAMP:20260425T065224
CREATED:20250828T145740Z
LAST-MODIFIED:20250828T145742Z
UID:10000106-1756839600-1756848600@postroadchorus.org
SUMMARY:Rehearsal
DESCRIPTION:Join us for an evening of vocal skill-building and singing (plus maybe a little fun) when we meet for our weekly rehearsal. \n \n 
URL:https://postroadchorus.org/event/rehearsal-6-32-45/
LOCATION:Briarwood Community Center\, 65 Briarwood Circle\, Worcester\, MA\, 01606\, United States
CATEGORIES:Rehearsal
ATTACH;FMTTYPE=image/png:https://postroadchorus.org/wp-content/uploads/2024/10/Rehearsal.png
GEO:42.3169828;-71.7718395
X-APPLE-STRUCTURED-LOCATION;VALUE=URI;X-ADDRESS=Briarwood Community Center 65 Briarwood Circle Worcester MA 01606 United States;X-APPLE-RADIUS=500;X-TITLE=65 Briarwood Circle:geo:-71.7718395,42.3169828
END:VEVENT
BEGIN:VEVENT
DTSTART;TZID=America/New_York:20250909T190000
DTEND;TZID=America/New_York:20250909T213000
DTSTAMP:20260425T065224
CREATED:20250905T175601Z
LAST-MODIFIED:20250905T175602Z
UID:10000107-1757444400-1757453400@postroadchorus.org
SUMMARY:Rehearsal
DESCRIPTION:Join us for an evening of vocal skill-building and singing (plus maybe a little fun) when we meet for our weekly rehearsal. \n \n 
URL:https://postroadchorus.org/event/rehearsal-6-32-46/
LOCATION:Briarwood Community Center\, 65 Briarwood Circle\, Worcester\, MA\, 01606\, United States
CATEGORIES:Rehearsal
ATTACH;FMTTYPE=image/png:https://postroadchorus.org/wp-content/uploads/2024/10/Rehearsal.png
GEO:42.3169828;-71.7718395
X-APPLE-STRUCTURED-LOCATION;VALUE=URI;X-ADDRESS=Briarwood Community Center 65 Briarwood Circle Worcester MA 01606 United States;X-APPLE-RADIUS=500;X-TITLE=65 Briarwood Circle:geo:-71.7718395,42.3169828
END:VEVENT
BEGIN:VEVENT
DTSTART;TZID=America/New_York:20250916T190000
DTEND;TZID=America/New_York:20250916T213000
DTSTAMP:20260425T065224
CREATED:20250911T132712Z
LAST-MODIFIED:20250911T132714Z
UID:10000108-1758049200-1758058200@postroadchorus.org
SUMMARY:Rehearsal
DESCRIPTION:Join us for an evening of vocal skill-building and singing (plus maybe a little fun) when we meet for our weekly rehearsal. \n \n 
URL:https://postroadchorus.org/event/rehearsal-6-32-47/
LOCATION:Briarwood Community Center\, 65 Briarwood Circle\, Worcester\, MA\, 01606\, United States
CATEGORIES:Rehearsal
ATTACH;FMTTYPE=image/png:https://postroadchorus.org/wp-content/uploads/2024/10/Rehearsal.png
GEO:42.3169828;-71.7718395
X-APPLE-STRUCTURED-LOCATION;VALUE=URI;X-ADDRESS=Briarwood Community Center 65 Briarwood Circle Worcester MA 01606 United States;X-APPLE-RADIUS=500;X-TITLE=65 Briarwood Circle:geo:-71.7718395,42.3169828
END:VEVENT
BEGIN:VEVENT
DTSTART;TZID=America/New_York:20250923T190000
DTEND;TZID=America/New_York:20250923T213000
DTSTAMP:20260425T065224
CREATED:20250918T132854Z
LAST-MODIFIED:20250922T145809Z
UID:10000109-1758654000-1758663000@postroadchorus.org
SUMMARY:New Song Night!
DESCRIPTION:Join us for New Song Night\, and start learning with us as we all debut our next new song\, Silver Bells\, at this special rehearsal. \n \n 
URL:https://postroadchorus.org/event/rehearsal-6-32-48/
LOCATION:Briarwood Community Center\, 65 Briarwood Circle\, Worcester\, MA\, 01606\, United States
CATEGORIES:Rehearsal
ATTACH;FMTTYPE=image/png:https://postroadchorus.org/wp-content/uploads/2025/09/New-Song-Night-Silver-Bells.png
GEO:42.3169828;-71.7718395
X-APPLE-STRUCTURED-LOCATION;VALUE=URI;X-ADDRESS=Briarwood Community Center 65 Briarwood Circle Worcester MA 01606 United States;X-APPLE-RADIUS=500;X-TITLE=65 Briarwood Circle:geo:-71.7718395,42.3169828
END:VEVENT
BEGIN:VEVENT
DTSTART;TZID=America/New_York:20250930T190000
DTEND;TZID=America/New_York:20250930T213000
DTSTAMP:20260425T065224
CREATED:20250924T150431Z
LAST-MODIFIED:20250924T150527Z
UID:10000110-1759258800-1759267800@postroadchorus.org
SUMMARY:Rehearsal
DESCRIPTION:Join us for an evening of vocal skill-building and singing (plus maybe a little fun) when we meet for our weekly rehearsal. \n \n 
URL:https://postroadchorus.org/event/rehearsal-6-32-49/
LOCATION:Briarwood Community Center\, 65 Briarwood Circle\, Worcester\, MA\, 01606\, United States
CATEGORIES:Rehearsal
ATTACH;FMTTYPE=image/png:https://postroadchorus.org/wp-content/uploads/2024/10/Rehearsal.png
GEO:42.3169828;-71.7718395
X-APPLE-STRUCTURED-LOCATION;VALUE=URI;X-ADDRESS=Briarwood Community Center 65 Briarwood Circle Worcester MA 01606 United States;X-APPLE-RADIUS=500;X-TITLE=65 Briarwood Circle:geo:-71.7718395,42.3169828
END:VEVENT
BEGIN:VEVENT
DTSTART;TZID=America/New_York:20251007T190000
DTEND;TZID=America/New_York:20251007T213000
DTSTAMP:20260425T065224
CREATED:20251002T111451Z
LAST-MODIFIED:20251002T111836Z
UID:10000111-1759863600-1759872600@postroadchorus.org
SUMMARY:Rehearsal
DESCRIPTION:Join us for an evening of vocal skill-building and singing (plus maybe a little fun) when we meet for our weekly rehearsal. \n \n 
URL:https://postroadchorus.org/event/rehearsal-6-32-50/
LOCATION:Briarwood Community Center\, 65 Briarwood Circle\, Worcester\, MA\, 01606\, United States
CATEGORIES:Rehearsal
ATTACH;FMTTYPE=image/png:https://postroadchorus.org/wp-content/uploads/2024/10/Rehearsal.png
GEO:42.3169828;-71.7718395
X-APPLE-STRUCTURED-LOCATION;VALUE=URI;X-ADDRESS=Briarwood Community Center 65 Briarwood Circle Worcester MA 01606 United States;X-APPLE-RADIUS=500;X-TITLE=65 Briarwood Circle:geo:-71.7718395,42.3169828
END:VEVENT
BEGIN:VEVENT
DTSTART;TZID=America/New_York:20251014T190000
DTEND;TZID=America/New_York:20251014T213000
DTSTAMP:20260425T065224
CREATED:20251009T135204Z
LAST-MODIFIED:20251009T135205Z
UID:10000112-1760468400-1760477400@postroadchorus.org
SUMMARY:Rehearsal
DESCRIPTION:Join us for an evening of vocal skill-building and singing (plus maybe a little fun) when we meet for our weekly rehearsal. \n \n 
URL:https://postroadchorus.org/event/rehearsal-6-32-51/
LOCATION:Briarwood Community Center\, 65 Briarwood Circle\, Worcester\, MA\, 01606\, United States
CATEGORIES:Rehearsal
ATTACH;FMTTYPE=image/png:https://postroadchorus.org/wp-content/uploads/2024/10/Rehearsal.png
GEO:42.3169828;-71.7718395
X-APPLE-STRUCTURED-LOCATION;VALUE=URI;X-ADDRESS=Briarwood Community Center 65 Briarwood Circle Worcester MA 01606 United States;X-APPLE-RADIUS=500;X-TITLE=65 Briarwood Circle:geo:-71.7718395,42.3169828
END:VEVENT
BEGIN:VEVENT
DTSTART;TZID=America/New_York:20251021T190000
DTEND;TZID=America/New_York:20251021T213000
DTSTAMP:20260425T065224
CREATED:20251016T142110Z
LAST-MODIFIED:20251016T142111Z
UID:10000113-1761073200-1761082200@postroadchorus.org
SUMMARY:Rehearsal
DESCRIPTION:Join us for an evening of vocal skill-building and singing (plus maybe a little fun) when we meet for our weekly rehearsal. \n \n 
URL:https://postroadchorus.org/event/rehearsal-6-32-52/
LOCATION:Briarwood Community Center\, 65 Briarwood Circle\, Worcester\, MA\, 01606\, United States
CATEGORIES:Rehearsal
ATTACH;FMTTYPE=image/png:https://postroadchorus.org/wp-content/uploads/2024/10/Rehearsal.png
GEO:42.3169828;-71.7718395
X-APPLE-STRUCTURED-LOCATION;VALUE=URI;X-ADDRESS=Briarwood Community Center 65 Briarwood Circle Worcester MA 01606 United States;X-APPLE-RADIUS=500;X-TITLE=65 Briarwood Circle:geo:-71.7718395,42.3169828
END:VEVENT
BEGIN:VEVENT
DTSTART;TZID=America/New_York:20251028T190000
DTEND;TZID=America/New_York:20251028T213000
DTSTAMP:20260425T065224
CREATED:20251023T193257Z
LAST-MODIFIED:20251023T193258Z
UID:10000114-1761678000-1761687000@postroadchorus.org
SUMMARY:Rehearsal
DESCRIPTION:Join us for an evening of vocal skill-building and singing (plus maybe a little fun) when we meet for our weekly rehearsal. \n \n 
URL:https://postroadchorus.org/event/rehearsal-6-32-53/
LOCATION:Briarwood Community Center\, 65 Briarwood Circle\, Worcester\, MA\, 01606\, United States
CATEGORIES:Rehearsal
ATTACH;FMTTYPE=image/png:https://postroadchorus.org/wp-content/uploads/2024/10/Rehearsal.png
GEO:42.3169828;-71.7718395
X-APPLE-STRUCTURED-LOCATION;VALUE=URI;X-ADDRESS=Briarwood Community Center 65 Briarwood Circle Worcester MA 01606 United States;X-APPLE-RADIUS=500;X-TITLE=65 Briarwood Circle:geo:-71.7718395,42.3169828
END:VEVENT
BEGIN:VEVENT
DTSTART;TZID=America/New_York:20251104T190000
DTEND;TZID=America/New_York:20251104T213000
DTSTAMP:20260425T065224
CREATED:20251030T181637Z
LAST-MODIFIED:20251030T181826Z
UID:10000115-1762282800-1762291800@postroadchorus.org
SUMMARY:Rehearsal
DESCRIPTION:Join us for an evening of vocal skill-building and singing (plus maybe a little fun) when we meet for our weekly rehearsal. \n \n 
URL:https://postroadchorus.org/event/rehearsal-6-32-54/
LOCATION:Briarwood Community Center\, 65 Briarwood Circle\, Worcester\, MA\, 01606\, United States
CATEGORIES:Rehearsal
ATTACH;FMTTYPE=image/png:https://postroadchorus.org/wp-content/uploads/2024/10/Rehearsal.png
GEO:42.3169828;-71.7718395
X-APPLE-STRUCTURED-LOCATION;VALUE=URI;X-ADDRESS=Briarwood Community Center 65 Briarwood Circle Worcester MA 01606 United States;X-APPLE-RADIUS=500;X-TITLE=65 Briarwood Circle:geo:-71.7718395,42.3169828
END:VEVENT
BEGIN:VEVENT
DTSTART;TZID=America/New_York:20251111T190000
DTEND;TZID=America/New_York:20251111T213000
DTSTAMP:20260425T065224
CREATED:20251106T151756Z
LAST-MODIFIED:20251106T151901Z
UID:10000116-1762887600-1762896600@postroadchorus.org
SUMMARY:Rehearsal
DESCRIPTION:Join us for an evening of vocal skill-building and singing (plus maybe a little fun) when we meet for our weekly rehearsal. \n \n 
URL:https://postroadchorus.org/event/rehearsal-6-32-55/
LOCATION:Briarwood Community Center\, 65 Briarwood Circle\, Worcester\, MA\, 01606\, United States
CATEGORIES:Rehearsal
ATTACH;FMTTYPE=image/png:https://postroadchorus.org/wp-content/uploads/2024/10/Rehearsal.png
GEO:42.3169828;-71.7718395
X-APPLE-STRUCTURED-LOCATION;VALUE=URI;X-ADDRESS=Briarwood Community Center 65 Briarwood Circle Worcester MA 01606 United States;X-APPLE-RADIUS=500;X-TITLE=65 Briarwood Circle:geo:-71.7718395,42.3169828
END:VEVENT
BEGIN:VEVENT
DTSTART;TZID=America/New_York:20251118T190000
DTEND;TZID=America/New_York:20251118T213000
DTSTAMP:20260425T065224
CREATED:20251113T145345Z
LAST-MODIFIED:20251113T145528Z
UID:10000117-1763492400-1763501400@postroadchorus.org
SUMMARY:Rehearsal
DESCRIPTION:Join us for an evening of vocal skill-building and singing (plus maybe a little fun) when we meet for our weekly rehearsal. \n \n 
URL:https://postroadchorus.org/event/rehearsal-6-32-56/
LOCATION:Briarwood Community Center\, 65 Briarwood Circle\, Worcester\, MA\, 01606\, United States
CATEGORIES:Rehearsal
ATTACH;FMTTYPE=image/png:https://postroadchorus.org/wp-content/uploads/2024/10/Rehearsal.png
GEO:42.3169828;-71.7718395
X-APPLE-STRUCTURED-LOCATION;VALUE=URI;X-ADDRESS=Briarwood Community Center 65 Briarwood Circle Worcester MA 01606 United States;X-APPLE-RADIUS=500;X-TITLE=65 Briarwood Circle:geo:-71.7718395,42.3169828
END:VEVENT
BEGIN:VEVENT
DTSTART;TZID=America/New_York:20251125T190000
DTEND;TZID=America/New_York:20251125T213000
DTSTAMP:20260425T065224
CREATED:20251119T160343Z
LAST-MODIFIED:20251119T231726Z
UID:10000118-1764097200-1764106200@postroadchorus.org
SUMMARY:Rehearsal
DESCRIPTION:Join us for an evening of vocal skill-building and singing (plus maybe a little fun) when we meet for our weekly rehearsal. \n \n 
URL:https://postroadchorus.org/event/rehearsal-6-32-57/
LOCATION:Briarwood Community Center\, 65 Briarwood Circle\, Worcester\, MA\, 01606\, United States
CATEGORIES:Rehearsal
ATTACH;FMTTYPE=image/png:https://postroadchorus.org/wp-content/uploads/2024/10/Rehearsal.png
GEO:42.3169828;-71.7718395
X-APPLE-STRUCTURED-LOCATION;VALUE=URI;X-ADDRESS=Briarwood Community Center 65 Briarwood Circle Worcester MA 01606 United States;X-APPLE-RADIUS=500;X-TITLE=65 Briarwood Circle:geo:-71.7718395,42.3169828
END:VEVENT
BEGIN:VEVENT
DTSTART;TZID=America/New_York:20251202T190000
DTEND;TZID=America/New_York:20251202T213000
DTSTAMP:20260425T065224
CREATED:20251127T165036Z
LAST-MODIFIED:20251127T165356Z
UID:10000119-1764702000-1764711000@postroadchorus.org
SUMMARY:Rehearsal
DESCRIPTION:Join us for an evening of vocal skill-building and singing (plus maybe a little fun) when we meet for our weekly rehearsal. \n \n 
URL:https://postroadchorus.org/event/rehearsal-6-32-58/
LOCATION:Briarwood Community Center\, 65 Briarwood Circle\, Worcester\, MA\, 01606\, United States
CATEGORIES:Rehearsal
ATTACH;FMTTYPE=image/png:https://postroadchorus.org/wp-content/uploads/2024/10/Rehearsal.png
GEO:42.3169828;-71.7718395
X-APPLE-STRUCTURED-LOCATION;VALUE=URI;X-ADDRESS=Briarwood Community Center 65 Briarwood Circle Worcester MA 01606 United States;X-APPLE-RADIUS=500;X-TITLE=65 Briarwood Circle:geo:-71.7718395,42.3169828
END:VEVENT
BEGIN:VEVENT
DTSTART;TZID=America/New_York:20251209T190000
DTEND;TZID=America/New_York:20251209T213000
DTSTAMP:20260425T065224
CREATED:20251206T012512Z
LAST-MODIFIED:20251206T012514Z
UID:10000120-1765306800-1765315800@postroadchorus.org
SUMMARY:Friends & Family Performance
DESCRIPTION:Join us for an evening of vocal skill-building and singing (plus maybe a little fun) when we meet for our weekly rehearsal. \n \n 
URL:https://postroadchorus.org/event/rehearsal-6-32-59/
LOCATION:Briarwood Community Center\, 65 Briarwood Circle\, Worcester\, MA\, 01606\, United States
CATEGORIES:Performance
ATTACH;FMTTYPE=image/png:https://postroadchorus.org/wp-content/uploads/2024/10/Rehearsal.png
GEO:42.3169828;-71.7718395
X-APPLE-STRUCTURED-LOCATION;VALUE=URI;X-ADDRESS=Briarwood Community Center 65 Briarwood Circle Worcester MA 01606 United States;X-APPLE-RADIUS=500;X-TITLE=65 Briarwood Circle:geo:-71.7718395,42.3169828
END:VEVENT
BEGIN:VEVENT
DTSTART;TZID=America/New_York:20251216T190000
DTEND;TZID=America/New_York:20251216T213000
DTSTAMP:20260425T065224
CREATED:20251212T022618Z
LAST-MODIFIED:20251212T022620Z
UID:10000121-1765911600-1765920600@postroadchorus.org
SUMMARY:Rehearsal
DESCRIPTION:Join us for an evening of vocal skill-building and singing (plus maybe a little fun) when we meet for our weekly rehearsal. \n \n 
URL:https://postroadchorus.org/event/rehearsal-6-32-60/
LOCATION:Briarwood Community Center\, 65 Briarwood Circle\, Worcester\, MA\, 01606\, United States
CATEGORIES:Rehearsal
ATTACH;FMTTYPE=image/png:https://postroadchorus.org/wp-content/uploads/2024/10/Rehearsal.png
GEO:42.3169828;-71.7718395
X-APPLE-STRUCTURED-LOCATION;VALUE=URI;X-ADDRESS=Briarwood Community Center 65 Briarwood Circle Worcester MA 01606 United States;X-APPLE-RADIUS=500;X-TITLE=65 Briarwood Circle:geo:-71.7718395,42.3169828
END:VEVENT
BEGIN:VEVENT
DTSTART;TZID=America/New_York:20251223T190000
DTEND;TZID=America/New_York:20251223T213000
DTSTAMP:20260425T065224
CREATED:20251218T162650Z
LAST-MODIFIED:20251218T162651Z
UID:10000122-1766516400-1766525400@postroadchorus.org
SUMMARY:No Rehearsal!
DESCRIPTION:Join us for an evening of vocal skill-building and singing (plus maybe a little fun) when we meet for our weekly rehearsal. \n \n 
URL:https://postroadchorus.org/event/rehearsal-6-32-61/
LOCATION:Briarwood Community Center\, 65 Briarwood Circle\, Worcester\, MA\, 01606\, United States
CATEGORIES:Rehearsal
ATTACH;FMTTYPE=image/png:https://postroadchorus.org/wp-content/uploads/2024/10/Rehearsal.png
GEO:42.3169828;-71.7718395
X-APPLE-STRUCTURED-LOCATION;VALUE=URI;X-ADDRESS=Briarwood Community Center 65 Briarwood Circle Worcester MA 01606 United States;X-APPLE-RADIUS=500;X-TITLE=65 Briarwood Circle:geo:-71.7718395,42.3169828
END:VEVENT
BEGIN:VEVENT
DTSTART;TZID=America/New_York:20251230T190000
DTEND;TZID=America/New_York:20251230T213000
DTSTAMP:20260425T065224
CREATED:20251218T162845Z
LAST-MODIFIED:20251223T143118Z
UID:10000123-1767121200-1767130200@postroadchorus.org
SUMMARY:Rehearsal
DESCRIPTION:Join us for an evening of vocal skill-building and singing (plus maybe a little fun) when we meet for our weekly rehearsal. \n \n 
URL:https://postroadchorus.org/event/rehearsal-6-32-62/
LOCATION:Briarwood Community Center\, 65 Briarwood Circle\, Worcester\, MA\, 01606\, United States
CATEGORIES:Rehearsal
ATTACH;FMTTYPE=image/png:https://postroadchorus.org/wp-content/uploads/2024/10/Rehearsal.png
GEO:42.3169828;-71.7718395
X-APPLE-STRUCTURED-LOCATION;VALUE=URI;X-ADDRESS=Briarwood Community Center 65 Briarwood Circle Worcester MA 01606 United States;X-APPLE-RADIUS=500;X-TITLE=65 Briarwood Circle:geo:-71.7718395,42.3169828
END:VEVENT
BEGIN:VEVENT
DTSTART;TZID=America/New_York:20260106T190000
DTEND;TZID=America/New_York:20260106T213000
DTSTAMP:20260425T065224
CREATED:20260101T184223Z
LAST-MODIFIED:20260101T184505Z
UID:10000124-1767726000-1767735000@postroadchorus.org
SUMMARY:Rehearsal
DESCRIPTION:Join us for an evening of vocal skill-building and singing (plus maybe a little fun) when we meet for our weekly rehearsal. \n \n 
URL:https://postroadchorus.org/event/rehearsal-6-32-63/
LOCATION:Briarwood Community Center\, 65 Briarwood Circle\, Worcester\, MA\, 01606\, United States
CATEGORIES:Rehearsal
ATTACH;FMTTYPE=image/png:https://postroadchorus.org/wp-content/uploads/2024/10/Rehearsal.png
GEO:42.3169828;-71.7718395
X-APPLE-STRUCTURED-LOCATION;VALUE=URI;X-ADDRESS=Briarwood Community Center 65 Briarwood Circle Worcester MA 01606 United States;X-APPLE-RADIUS=500;X-TITLE=65 Briarwood Circle:geo:-71.7718395,42.3169828
END:VEVENT
BEGIN:VEVENT
DTSTART;TZID=America/New_York:20260113T190000
DTEND;TZID=America/New_York:20260113T213000
DTSTAMP:20260425T065224
CREATED:20260108T174057Z
LAST-MODIFIED:20260108T174058Z
UID:10000125-1768330800-1768339800@postroadchorus.org
SUMMARY:Rehearsal
DESCRIPTION:Join us for an evening of vocal skill-building and singing (plus maybe a little fun) when we meet for our weekly rehearsal. \n \n 
URL:https://postroadchorus.org/event/rehearsal-6-32-64/
LOCATION:Briarwood Community Center\, 65 Briarwood Circle\, Worcester\, MA\, 01606\, United States
CATEGORIES:Rehearsal
ATTACH;FMTTYPE=image/png:https://postroadchorus.org/wp-content/uploads/2024/10/Rehearsal.png
GEO:42.3169828;-71.7718395
X-APPLE-STRUCTURED-LOCATION;VALUE=URI;X-ADDRESS=Briarwood Community Center 65 Briarwood Circle Worcester MA 01606 United States;X-APPLE-RADIUS=500;X-TITLE=65 Briarwood Circle:geo:-71.7718395,42.3169828
END:VEVENT
BEGIN:VEVENT
DTSTART;TZID=America/New_York:20260120T190000
DTEND;TZID=America/New_York:20260120T213000
DTSTAMP:20260425T065224
CREATED:20260115T144045Z
LAST-MODIFIED:20260115T144046Z
UID:10000126-1768935600-1768944600@postroadchorus.org
SUMMARY:Rehearsal
DESCRIPTION:Join us for an evening of vocal skill-building and singing (plus maybe a little fun) when we meet for our weekly rehearsal. \n \n 
URL:https://postroadchorus.org/event/rehearsal-6-32-65/
LOCATION:Briarwood Community Center\, 65 Briarwood Circle\, Worcester\, MA\, 01606\, United States
CATEGORIES:Rehearsal
ATTACH;FMTTYPE=image/png:https://postroadchorus.org/wp-content/uploads/2024/10/Rehearsal.png
GEO:42.3169828;-71.7718395
X-APPLE-STRUCTURED-LOCATION;VALUE=URI;X-ADDRESS=Briarwood Community Center 65 Briarwood Circle Worcester MA 01606 United States;X-APPLE-RADIUS=500;X-TITLE=65 Briarwood Circle:geo:-71.7718395,42.3169828
END:VEVENT
BEGIN:VEVENT
DTSTART;TZID=America/New_York:20260127T190000
DTEND;TZID=America/New_York:20260127T213000
DTSTAMP:20260425T065224
CREATED:20260122T151758Z
LAST-MODIFIED:20260122T151832Z
UID:10000127-1769540400-1769549400@postroadchorus.org
SUMMARY:Rehearsal
DESCRIPTION:Join us for an evening of vocal skill-building and singing (plus maybe a little fun) when we meet for our weekly rehearsal. \n \n 
URL:https://postroadchorus.org/event/rehearsal-6-32-66/
LOCATION:Briarwood Community Center\, 65 Briarwood Circle\, Worcester\, MA\, 01606\, United States
CATEGORIES:Rehearsal
ATTACH;FMTTYPE=image/png:https://postroadchorus.org/wp-content/uploads/2024/10/Rehearsal.png
GEO:42.3169828;-71.7718395
X-APPLE-STRUCTURED-LOCATION;VALUE=URI;X-ADDRESS=Briarwood Community Center 65 Briarwood Circle Worcester MA 01606 United States;X-APPLE-RADIUS=500;X-TITLE=65 Briarwood Circle:geo:-71.7718395,42.3169828
END:VEVENT
BEGIN:VEVENT
DTSTART;TZID=America/New_York:20260203T190000
DTEND;TZID=America/New_York:20260203T213000
DTSTAMP:20260425T065224
CREATED:20260129T221230Z
LAST-MODIFIED:20260129T221231Z
UID:10000128-1770145200-1770154200@postroadchorus.org
SUMMARY:Rehearsal
DESCRIPTION:Join us for an evening of vocal skill-building and singing (plus maybe a little fun) when we meet for our weekly rehearsal. \n \n 
URL:https://postroadchorus.org/event/rehearsal-6-32-67/
LOCATION:Briarwood Community Center\, 65 Briarwood Circle\, Worcester\, MA\, 01606\, United States
CATEGORIES:Rehearsal
ATTACH;FMTTYPE=image/png:https://postroadchorus.org/wp-content/uploads/2024/10/Rehearsal.png
GEO:42.3169828;-71.7718395
X-APPLE-STRUCTURED-LOCATION;VALUE=URI;X-ADDRESS=Briarwood Community Center 65 Briarwood Circle Worcester MA 01606 United States;X-APPLE-RADIUS=500;X-TITLE=65 Briarwood Circle:geo:-71.7718395,42.3169828
END:VEVENT
BEGIN:VEVENT
DTSTART;TZID=America/New_York:20260210T190000
DTEND;TZID=America/New_York:20260210T213000
DTSTAMP:20260425T065224
CREATED:20260206T034758Z
LAST-MODIFIED:20260206T034759Z
UID:10000129-1770750000-1770759000@postroadchorus.org
SUMMARY:Rehearsal
DESCRIPTION:Join us for an evening of vocal skill-building and singing (plus maybe a little fun) when we meet for our weekly rehearsal. \n \n 
URL:https://postroadchorus.org/event/rehearsal-6-32-68/
LOCATION:Briarwood Community Center\, 65 Briarwood Circle\, Worcester\, MA\, 01606\, United States
CATEGORIES:Rehearsal
ATTACH;FMTTYPE=image/png:https://postroadchorus.org/wp-content/uploads/2024/10/Rehearsal.png
GEO:42.3169828;-71.7718395
X-APPLE-STRUCTURED-LOCATION;VALUE=URI;X-ADDRESS=Briarwood Community Center 65 Briarwood Circle Worcester MA 01606 United States;X-APPLE-RADIUS=500;X-TITLE=65 Briarwood Circle:geo:-71.7718395,42.3169828
END:VEVENT
BEGIN:VEVENT
DTSTART;TZID=America/New_York:20260217T190000
DTEND;TZID=America/New_York:20260217T213000
DTSTAMP:20260425T065224
CREATED:20260212T141607Z
LAST-MODIFIED:20260212T141609Z
UID:10000130-1771354800-1771363800@postroadchorus.org
SUMMARY:Rehearsal
DESCRIPTION:Join us for an evening of vocal skill-building and singing (plus maybe a little fun) when we meet for our weekly rehearsal. \n \n 
URL:https://postroadchorus.org/event/rehearsal-6-32-69/
LOCATION:Briarwood Community Center\, 65 Briarwood Circle\, Worcester\, MA\, 01606\, United States
CATEGORIES:Rehearsal
ATTACH;FMTTYPE=image/png:https://postroadchorus.org/wp-content/uploads/2024/10/Rehearsal.png
GEO:42.3169828;-71.7718395
X-APPLE-STRUCTURED-LOCATION;VALUE=URI;X-ADDRESS=Briarwood Community Center 65 Briarwood Circle Worcester MA 01606 United States;X-APPLE-RADIUS=500;X-TITLE=65 Briarwood Circle:geo:-71.7718395,42.3169828
END:VEVENT
BEGIN:VEVENT
DTSTART;TZID=America/New_York:20260224T190000
DTEND;TZID=America/New_York:20260224T213000
DTSTAMP:20260425T065224
CREATED:20260219T202400Z
LAST-MODIFIED:20260219T202402Z
UID:10000131-1771959600-1771968600@postroadchorus.org
SUMMARY:Rehearsal
DESCRIPTION:Join us for an evening of vocal skill-building and singing (plus maybe a little fun) when we meet for our weekly rehearsal. \n \n 
URL:https://postroadchorus.org/event/rehearsal-6-32-70/
LOCATION:Briarwood Community Center\, 65 Briarwood Circle\, Worcester\, MA\, 01606\, United States
CATEGORIES:Rehearsal
ATTACH;FMTTYPE=image/png:https://postroadchorus.org/wp-content/uploads/2024/10/Rehearsal.png
GEO:42.3169828;-71.7718395
X-APPLE-STRUCTURED-LOCATION;VALUE=URI;X-ADDRESS=Briarwood Community Center 65 Briarwood Circle Worcester MA 01606 United States;X-APPLE-RADIUS=500;X-TITLE=65 Briarwood Circle:geo:-71.7718395,42.3169828
END:VEVENT
BEGIN:VEVENT
DTSTART;TZID=America/New_York:20260303T190000
DTEND;TZID=America/New_York:20260303T213000
DTSTAMP:20260425T065224
CREATED:20260226T183610Z
LAST-MODIFIED:20260226T183612Z
UID:10000132-1772564400-1772573400@postroadchorus.org
SUMMARY:Rehearsal
DESCRIPTION:Join us for an evening of vocal skill-building and singing (plus maybe a little fun) when we meet for our weekly rehearsal. \n \n 
URL:https://postroadchorus.org/event/rehearsal-6-32-71/
LOCATION:Briarwood Community Center\, 65 Briarwood Circle\, Worcester\, MA\, 01606\, United States
CATEGORIES:Rehearsal
ATTACH;FMTTYPE=image/png:https://postroadchorus.org/wp-content/uploads/2024/10/Rehearsal.png
GEO:42.3169828;-71.7718395
X-APPLE-STRUCTURED-LOCATION;VALUE=URI;X-ADDRESS=Briarwood Community Center 65 Briarwood Circle Worcester MA 01606 United States;X-APPLE-RADIUS=500;X-TITLE=65 Briarwood Circle:geo:-71.7718395,42.3169828
END:VEVENT
BEGIN:VEVENT
DTSTART;TZID=America/New_York:20260310T190000
DTEND;TZID=America/New_York:20260310T213000
DTSTAMP:20260425T065224
CREATED:20260305T205557Z
LAST-MODIFIED:20260305T205559Z
UID:10000133-1773169200-1773178200@postroadchorus.org
SUMMARY:Rehearsal
DESCRIPTION:Join us for an evening of vocal skill-building and singing (plus maybe a little fun) when we meet for our weekly rehearsal. \n \n 
URL:https://postroadchorus.org/event/rehearsal-6-32-72/
LOCATION:Briarwood Community Center\, 65 Briarwood Circle\, Worcester\, MA\, 01606\, United States
CATEGORIES:Rehearsal
ATTACH;FMTTYPE=image/png:https://postroadchorus.org/wp-content/uploads/2024/10/Rehearsal.png
GEO:42.3169828;-71.7718395
X-APPLE-STRUCTURED-LOCATION;VALUE=URI;X-ADDRESS=Briarwood Community Center 65 Briarwood Circle Worcester MA 01606 United States;X-APPLE-RADIUS=500;X-TITLE=65 Briarwood Circle:geo:-71.7718395,42.3169828
END:VEVENT
BEGIN:VEVENT
DTSTART;TZID=America/New_York:20260317T190000
DTEND;TZID=America/New_York:20260317T213000
DTSTAMP:20260425T065224
CREATED:20260312T130256Z
LAST-MODIFIED:20260312T130303Z
UID:10000134-1773774000-1773783000@postroadchorus.org
SUMMARY:Rehearsal
DESCRIPTION:Join us for an evening of vocal skill-building and singing (plus maybe a little fun) when we meet for our weekly rehearsal. \n \n 
URL:https://postroadchorus.org/event/rehearsal-6-32-73/
LOCATION:Briarwood Community Center\, 65 Briarwood Circle\, Worcester\, MA\, 01606\, United States
CATEGORIES:Rehearsal
ATTACH;FMTTYPE=image/png:https://postroadchorus.org/wp-content/uploads/2024/10/Rehearsal.png
GEO:42.3169828;-71.7718395
X-APPLE-STRUCTURED-LOCATION;VALUE=URI;X-ADDRESS=Briarwood Community Center 65 Briarwood Circle Worcester MA 01606 United States;X-APPLE-RADIUS=500;X-TITLE=65 Briarwood Circle:geo:-71.7718395,42.3169828
END:VEVENT
BEGIN:VEVENT
DTSTART;TZID=America/New_York:20260324T190000
DTEND;TZID=America/New_York:20260324T213000
DTSTAMP:20260425T065224
CREATED:20260318T162418Z
LAST-MODIFIED:20260322T211747Z
UID:10000135-1774378800-1774387800@postroadchorus.org
SUMMARY:Rehearsal
DESCRIPTION:Join us for an evening of vocal skill-building and singing (plus maybe a little fun) when we meet for our weekly rehearsal. \n \n 
URL:https://postroadchorus.org/event/rehearsal-6-32-74/
LOCATION:Briarwood Community Center\, 65 Briarwood Circle\, Worcester\, MA\, 01606\, United States
CATEGORIES:Rehearsal
ATTACH;FMTTYPE=image/png:https://postroadchorus.org/wp-content/uploads/2024/10/Rehearsal.png
GEO:42.3169828;-71.7718395
X-APPLE-STRUCTURED-LOCATION;VALUE=URI;X-ADDRESS=Briarwood Community Center 65 Briarwood Circle Worcester MA 01606 United States;X-APPLE-RADIUS=500;X-TITLE=65 Briarwood Circle:geo:-71.7718395,42.3169828
END:VEVENT
END:VCALENDAR