BEGIN:VCALENDAR
VERSION:2.0
PRODID:-//Post Road Chorus - ECPv6.15.17.1//NONSGML v1.0//EN
CALSCALE:GREGORIAN
METHOD:PUBLISH
X-WR-CALNAME:Post Road Chorus
X-ORIGINAL-URL:https://postroadchorus.org
X-WR-CALDESC:Events for Post Road Chorus
REFRESH-INTERVAL;VALUE=DURATION:PT1H
X-Robots-Tag:noindex
X-PUBLISHED-TTL:PT1H
BEGIN:VTIMEZONE
TZID:America/New_York
BEGIN:DAYLIGHT
TZOFFSETFROM:-0500
TZOFFSETTO:-0400
TZNAME:EDT
DTSTART:20230312T070000
END:DAYLIGHT
BEGIN:STANDARD
TZOFFSETFROM:-0400
TZOFFSETTO:-0500
TZNAME:EST
DTSTART:20231105T060000
END:STANDARD
BEGIN:DAYLIGHT
TZOFFSETFROM:-0500
TZOFFSETTO:-0400
TZNAME:EDT
DTSTART:20240310T070000
END:DAYLIGHT
BEGIN:STANDARD
TZOFFSETFROM:-0400
TZOFFSETTO:-0500
TZNAME:EST
DTSTART:20241103T060000
END:STANDARD
BEGIN:DAYLIGHT
TZOFFSETFROM:-0500
TZOFFSETTO:-0400
TZNAME:EDT
DTSTART:20250309T070000
END:DAYLIGHT
BEGIN:STANDARD
TZOFFSETFROM:-0400
TZOFFSETTO:-0500
TZNAME:EST
DTSTART:20251102T060000
END:STANDARD
BEGIN:DAYLIGHT
TZOFFSETFROM:-0500
TZOFFSETTO:-0400
TZNAME:EDT
DTSTART:20260308T070000
END:DAYLIGHT
BEGIN:STANDARD
TZOFFSETFROM:-0400
TZOFFSETTO:-0500
TZNAME:EST
DTSTART:20261101T060000
END:STANDARD
END:VTIMEZONE
BEGIN:VEVENT
DTSTART;TZID=America/New_York:20250527T190000
DTEND;TZID=America/New_York:20250527T213000
DTSTAMP:20260425T131909
CREATED:20250522T152030Z
LAST-MODIFIED:20250522T152032Z
UID:10000092-1748372400-1748381400@postroadchorus.org
SUMMARY:Rehearsal
DESCRIPTION:Join us for an evening of vocal skill-building and singing (plus maybe a little fun) when we meet for our weekly rehearsal. \n \n 
URL:https://postroadchorus.org/event/rehearsal-6-32-31/
LOCATION:Briarwood Community Center\, 65 Briarwood Circle\, Worcester\, MA\, 01606\, United States
CATEGORIES:Rehearsal
ATTACH;FMTTYPE=image/png:https://postroadchorus.org/wp-content/uploads/2024/01/Rehearsal-2.png
GEO:42.3169828;-71.7718395
X-APPLE-STRUCTURED-LOCATION;VALUE=URI;X-ADDRESS=Briarwood Community Center 65 Briarwood Circle Worcester MA 01606 United States;X-APPLE-RADIUS=500;X-TITLE=65 Briarwood Circle:geo:-71.7718395,42.3169828
END:VEVENT
BEGIN:VEVENT
DTSTART;TZID=America/New_York:20250520T190000
DTEND;TZID=America/New_York:20250520T213000
DTSTAMP:20260425T131909
CREATED:20250515T211329Z
LAST-MODIFIED:20250516T122055Z
UID:10000091-1747767600-1747776600@postroadchorus.org
SUMMARY:Rehearsal
DESCRIPTION:Join us for an evening of vocal skill-building and singing (plus maybe a little fun) when we meet for our weekly rehearsal. \n \n 
URL:https://postroadchorus.org/event/rehearsal-6-32-30/
LOCATION:Briarwood Community Center\, 65 Briarwood Circle\, Worcester\, MA\, 01606\, United States
CATEGORIES:Rehearsal
ATTACH;FMTTYPE=image/png:https://postroadchorus.org/wp-content/uploads/2024/01/Rehearsal-2.png
GEO:42.3169828;-71.7718395
X-APPLE-STRUCTURED-LOCATION;VALUE=URI;X-ADDRESS=Briarwood Community Center 65 Briarwood Circle Worcester MA 01606 United States;X-APPLE-RADIUS=500;X-TITLE=65 Briarwood Circle:geo:-71.7718395,42.3169828
END:VEVENT
BEGIN:VEVENT
DTSTART;TZID=America/New_York:20250513T190000
DTEND;TZID=America/New_York:20250513T213000
DTSTAMP:20260425T131909
CREATED:20250508T175426Z
LAST-MODIFIED:20250511T223355Z
UID:10000090-1747162800-1747171800@postroadchorus.org
SUMMARY:Rehearsal
DESCRIPTION:Join us for an evening of vocal skill-building and singing (plus maybe a little fun) when we meet for our weekly rehearsal. \n \n 
URL:https://postroadchorus.org/event/rehearsal-6-32-29/
LOCATION:Briarwood Community Center\, 65 Briarwood Circle\, Worcester\, MA\, 01606\, United States
CATEGORIES:Rehearsal
ATTACH;FMTTYPE=image/png:https://postroadchorus.org/wp-content/uploads/2024/01/Rehearsal-2.png
GEO:42.3169828;-71.7718395
X-APPLE-STRUCTURED-LOCATION;VALUE=URI;X-ADDRESS=Briarwood Community Center 65 Briarwood Circle Worcester MA 01606 United States;X-APPLE-RADIUS=500;X-TITLE=65 Briarwood Circle:geo:-71.7718395,42.3169828
END:VEVENT
BEGIN:VEVENT
DTSTART;TZID=America/New_York:20250506T190000
DTEND;TZID=America/New_York:20250506T213000
DTSTAMP:20260425T131909
CREATED:20250501T223647Z
LAST-MODIFIED:20250501T223900Z
UID:10000089-1746558000-1746567000@postroadchorus.org
SUMMARY:Rehearsal
DESCRIPTION:Join us for an evening of vocal skill-building and singing (plus maybe a little fun) when we meet for our weekly rehearsal. \n \n 
URL:https://postroadchorus.org/event/rehearsal-6-32-28/
LOCATION:Briarwood Community Center\, 65 Briarwood Circle\, Worcester\, MA\, 01606\, United States
CATEGORIES:Rehearsal
ATTACH;FMTTYPE=image/png:https://postroadchorus.org/wp-content/uploads/2024/01/Rehearsal-2.png
GEO:42.3169828;-71.7718395
X-APPLE-STRUCTURED-LOCATION;VALUE=URI;X-ADDRESS=Briarwood Community Center 65 Briarwood Circle Worcester MA 01606 United States;X-APPLE-RADIUS=500;X-TITLE=65 Briarwood Circle:geo:-71.7718395,42.3169828
END:VEVENT
BEGIN:VEVENT
DTSTART;TZID=America/New_York:20250429T190000
DTEND;TZID=America/New_York:20250429T213000
DTSTAMP:20260425T131909
CREATED:20250424T132320Z
LAST-MODIFIED:20250427T151310Z
UID:10000088-1745953200-1745962200@postroadchorus.org
SUMMARY:Rehearsal
DESCRIPTION:Join us for an evening of vocal skill-building and singing (plus maybe a little fun) when we meet for our weekly rehearsal. \n \n 
URL:https://postroadchorus.org/event/rehearsal-6-32-27/
LOCATION:Briarwood Community Center\, 65 Briarwood Circle\, Worcester\, MA\, 01606\, United States
CATEGORIES:Rehearsal
ATTACH;FMTTYPE=image/png:https://postroadchorus.org/wp-content/uploads/2024/01/Rehearsal-2.png
GEO:42.3169828;-71.7718395
X-APPLE-STRUCTURED-LOCATION;VALUE=URI;X-ADDRESS=Briarwood Community Center 65 Briarwood Circle Worcester MA 01606 United States;X-APPLE-RADIUS=500;X-TITLE=65 Briarwood Circle:geo:-71.7718395,42.3169828
END:VEVENT
BEGIN:VEVENT
DTSTART;TZID=America/New_York:20250422T190000
DTEND;TZID=America/New_York:20250422T213000
DTSTAMP:20260425T131909
CREATED:20250417T201203Z
LAST-MODIFIED:20250417T201205Z
UID:10000087-1745348400-1745357400@postroadchorus.org
SUMMARY:Rehearsal
DESCRIPTION:Join us for an evening of vocal skill-building and singing (plus maybe a little fun) when we meet for our weekly rehearsal. \n \n 
URL:https://postroadchorus.org/event/rehearsal-6-32-26/
LOCATION:Briarwood Community Center\, 65 Briarwood Circle\, Worcester\, MA\, 01606\, United States
CATEGORIES:Rehearsal
ATTACH;FMTTYPE=image/png:https://postroadchorus.org/wp-content/uploads/2024/01/Rehearsal-2.png
GEO:42.3169828;-71.7718395
X-APPLE-STRUCTURED-LOCATION;VALUE=URI;X-ADDRESS=Briarwood Community Center 65 Briarwood Circle Worcester MA 01606 United States;X-APPLE-RADIUS=500;X-TITLE=65 Briarwood Circle:geo:-71.7718395,42.3169828
END:VEVENT
BEGIN:VEVENT
DTSTART;TZID=America/New_York:20250415T190000
DTEND;TZID=America/New_York:20250415T213000
DTSTAMP:20260425T131909
CREATED:20250410T134635Z
LAST-MODIFIED:20250410T134637Z
UID:10000086-1744743600-1744752600@postroadchorus.org
SUMMARY:Rehearsal
DESCRIPTION:Join us for an evening of vocal skill-building and singing (plus maybe a little fun) when we meet for our weekly rehearsal. \n \n 
URL:https://postroadchorus.org/event/rehearsal-6-32-25/
LOCATION:Briarwood Community Center\, 65 Briarwood Circle\, Worcester\, MA\, 01606\, United States
CATEGORIES:Rehearsal
ATTACH;FMTTYPE=image/png:https://postroadchorus.org/wp-content/uploads/2024/01/Rehearsal-2.png
GEO:42.3169828;-71.7718395
X-APPLE-STRUCTURED-LOCATION;VALUE=URI;X-ADDRESS=Briarwood Community Center 65 Briarwood Circle Worcester MA 01606 United States;X-APPLE-RADIUS=500;X-TITLE=65 Briarwood Circle:geo:-71.7718395,42.3169828
END:VEVENT
BEGIN:VEVENT
DTSTART;TZID=America/New_York:20250408T190000
DTEND;TZID=America/New_York:20250408T213000
DTSTAMP:20260425T131909
CREATED:20250403T135213Z
LAST-MODIFIED:20250403T135215Z
UID:10000085-1744138800-1744147800@postroadchorus.org
SUMMARY:Rehearsal
DESCRIPTION:Join us for an evening of vocal skill-building and singing (plus maybe a little fun) when we meet for our weekly rehearsal. \n \n 
URL:https://postroadchorus.org/event/rehearsal-6-32-24/
LOCATION:Briarwood Community Center\, 65 Briarwood Circle\, Worcester\, MA\, 01606\, United States
CATEGORIES:Rehearsal
ATTACH;FMTTYPE=image/png:https://postroadchorus.org/wp-content/uploads/2024/01/Rehearsal-2.png
GEO:42.3169828;-71.7718395
X-APPLE-STRUCTURED-LOCATION;VALUE=URI;X-ADDRESS=Briarwood Community Center 65 Briarwood Circle Worcester MA 01606 United States;X-APPLE-RADIUS=500;X-TITLE=65 Briarwood Circle:geo:-71.7718395,42.3169828
END:VEVENT
BEGIN:VEVENT
DTSTART;VALUE=DATE:20250407
DTEND;VALUE=DATE:20250408
DTSTAMP:20260425T131909
CREATED:20250301T122902Z
LAST-MODIFIED:20250301T131210Z
UID:10000483-1743984000-1744070399@postroadchorus.org
SUMMARY:Community Sing-Out
DESCRIPTION:
URL:https://postroadchorus.org/event/community-sing-out/
LOCATION:MA\, United States
CATEGORIES:Performance
END:VEVENT
BEGIN:VEVENT
DTSTART;TZID=America/New_York:20250401T190000
DTEND;TZID=America/New_York:20250401T213000
DTSTAMP:20260425T131909
CREATED:20250327T153724Z
LAST-MODIFIED:20250327T153726Z
UID:10000084-1743534000-1743543000@postroadchorus.org
SUMMARY:Rehearsal
DESCRIPTION:Join us for an evening of vocal skill-building and singing (plus maybe a little fun) when we meet for our weekly rehearsal. \n \n 
URL:https://postroadchorus.org/event/rehearsal-6-32-23/
LOCATION:Briarwood Community Center\, 65 Briarwood Circle\, Worcester\, MA\, 01606\, United States
CATEGORIES:Rehearsal
ATTACH;FMTTYPE=image/png:https://postroadchorus.org/wp-content/uploads/2024/01/Rehearsal-2.png
GEO:42.3169828;-71.7718395
X-APPLE-STRUCTURED-LOCATION;VALUE=URI;X-ADDRESS=Briarwood Community Center 65 Briarwood Circle Worcester MA 01606 United States;X-APPLE-RADIUS=500;X-TITLE=65 Briarwood Circle:geo:-71.7718395,42.3169828
END:VEVENT
BEGIN:VEVENT
DTSTART;TZID=America/New_York:20250325T183000
DTEND;TZID=America/New_York:20250325T193000
DTSTAMP:20260425T131909
CREATED:20250305T153332Z
LAST-MODIFIED:20250320T134021Z
UID:10000083-1742927400-1742931000@postroadchorus.org
SUMMARY:Performance
DESCRIPTION:We’re going on the road! We love performing in our community!
URL:https://postroadchorus.org/event/rehearsal-6-32-20/
LOCATION:Orchard Grove Assisted Living\, 258 Walnut sSt\, Shrewsbury\, MA\, 01545
CATEGORIES:Performance
GEO:42.2834603;-71.726659
X-APPLE-STRUCTURED-LOCATION;VALUE=URI;X-ADDRESS=Orchard Grove Assisted Living 258 Walnut sSt Shrewsbury MA 01545;X-APPLE-RADIUS=500;X-TITLE=258 Walnut sSt:geo:-71.726659,42.2834603
END:VEVENT
BEGIN:VEVENT
DTSTART;TZID=America/New_York:20250318T190000
DTEND;TZID=America/New_York:20250318T213000
DTSTAMP:20260425T131909
CREATED:20250313T135804Z
LAST-MODIFIED:20250313T135805Z
UID:10000082-1742324400-1742333400@postroadchorus.org
SUMMARY:Rehearsal
DESCRIPTION:Join us for an evening of vocal skill-building and singing (plus maybe a little fun) when we meet for our weekly rehearsal. \n \n 
URL:https://postroadchorus.org/event/rehearsal-6-32-22/
LOCATION:Briarwood Community Center\, 65 Briarwood Circle\, Worcester\, MA\, 01606\, United States
CATEGORIES:Rehearsal
ATTACH;FMTTYPE=image/png:https://postroadchorus.org/wp-content/uploads/2024/01/Rehearsal-2.png
GEO:42.3169828;-71.7718395
X-APPLE-STRUCTURED-LOCATION;VALUE=URI;X-ADDRESS=Briarwood Community Center 65 Briarwood Circle Worcester MA 01606 United States;X-APPLE-RADIUS=500;X-TITLE=65 Briarwood Circle:geo:-71.7718395,42.3169828
END:VEVENT
BEGIN:VEVENT
DTSTART;TZID=America/New_York:20250311T190000
DTEND;TZID=America/New_York:20250311T213000
DTSTAMP:20260425T131909
CREATED:20250306T143922Z
LAST-MODIFIED:20250306T152934Z
UID:10000081-1741719600-1741728600@postroadchorus.org
SUMMARY:Rehearsal
DESCRIPTION:Join us for an evening of vocal skill-building and singing (plus maybe a little fun) when we meet for our weekly rehearsal. \n \n 
URL:https://postroadchorus.org/event/rehearsal-6-32-21/
LOCATION:Briarwood Community Center\, 65 Briarwood Circle\, Worcester\, MA\, 01606\, United States
CATEGORIES:Rehearsal
ATTACH;FMTTYPE=image/png:https://postroadchorus.org/wp-content/uploads/2024/01/Rehearsal-2.png
GEO:42.3169828;-71.7718395
X-APPLE-STRUCTURED-LOCATION;VALUE=URI;X-ADDRESS=Briarwood Community Center 65 Briarwood Circle Worcester MA 01606 United States;X-APPLE-RADIUS=500;X-TITLE=65 Briarwood Circle:geo:-71.7718395,42.3169828
END:VEVENT
BEGIN:VEVENT
DTSTART;TZID=America/New_York:20250304T190000
DTEND;TZID=America/New_York:20250304T213000
DTSTAMP:20260425T131909
CREATED:20250227T202110Z
LAST-MODIFIED:20250227T225107Z
UID:10000080-1741114800-1741123800@postroadchorus.org
SUMMARY:Rehearsal
DESCRIPTION:Join us for an evening of vocal skill-building and singing (plus maybe a little fun) when we meet for our weekly rehearsal. \n \n 
URL:https://postroadchorus.org/event/rehearsal-6-32-19/
LOCATION:Briarwood Community Center\, 65 Briarwood Circle\, Worcester\, MA\, 01606\, United States
CATEGORIES:Rehearsal
ATTACH;FMTTYPE=image/png:https://postroadchorus.org/wp-content/uploads/2024/01/Rehearsal-2.png
GEO:42.3169828;-71.7718395
X-APPLE-STRUCTURED-LOCATION;VALUE=URI;X-ADDRESS=Briarwood Community Center 65 Briarwood Circle Worcester MA 01606 United States;X-APPLE-RADIUS=500;X-TITLE=65 Briarwood Circle:geo:-71.7718395,42.3169828
END:VEVENT
BEGIN:VEVENT
DTSTART;TZID=America/New_York:20250225T190000
DTEND;TZID=America/New_York:20250225T213000
DTSTAMP:20260425T131909
CREATED:20250220T143344Z
LAST-MODIFIED:20250220T144802Z
UID:10000079-1740510000-1740519000@postroadchorus.org
SUMMARY:Rehearsal
DESCRIPTION:Join us for an evening of vocal skill-building and singing (plus maybe a little fun) when we meet for our weekly rehearsal. \n \n 
URL:https://postroadchorus.org/event/rehearsal-6-32-18/
LOCATION:Briarwood Community Center\, 65 Briarwood Circle\, Worcester\, MA\, 01606\, United States
CATEGORIES:Rehearsal
ATTACH;FMTTYPE=image/png:https://postroadchorus.org/wp-content/uploads/2024/01/Rehearsal-2.png
GEO:42.3169828;-71.7718395
X-APPLE-STRUCTURED-LOCATION;VALUE=URI;X-ADDRESS=Briarwood Community Center 65 Briarwood Circle Worcester MA 01606 United States;X-APPLE-RADIUS=500;X-TITLE=65 Briarwood Circle:geo:-71.7718395,42.3169828
END:VEVENT
BEGIN:VEVENT
DTSTART;TZID=America/New_York:20250218T190000
DTEND;TZID=America/New_York:20250218T213000
DTSTAMP:20260425T131909
CREATED:20250213T150251Z
LAST-MODIFIED:20250218T161632Z
UID:10000078-1739905200-1739914200@postroadchorus.org
SUMMARY:Rehearsal
DESCRIPTION:Join us for an evening of vocal skill-building and singing (plus maybe a little fun) when we meet for our weekly rehearsal.
URL:https://postroadchorus.org/event/rehearsal-6-32-17/
LOCATION:Briarwood Community Center\, 65 Briarwood Circle\, Worcester\, MA\, 01606\, United States
CATEGORIES:Rehearsal
ATTACH;FMTTYPE=image/png:https://postroadchorus.org/wp-content/uploads/2024/01/Rehearsal-2.png
GEO:42.3169828;-71.7718395
X-APPLE-STRUCTURED-LOCATION;VALUE=URI;X-ADDRESS=Briarwood Community Center 65 Briarwood Circle Worcester MA 01606 United States;X-APPLE-RADIUS=500;X-TITLE=65 Briarwood Circle:geo:-71.7718395,42.3169828
END:VEVENT
BEGIN:VEVENT
DTSTART;TZID=America/New_York:20250211T190000
DTEND;TZID=America/New_York:20250211T213000
DTSTAMP:20260425T131909
CREATED:20250207T190104Z
LAST-MODIFIED:20250207T190106Z
UID:10000077-1739300400-1739309400@postroadchorus.org
SUMMARY:Rehearsal
DESCRIPTION:Join us for an evening of vocal skill-building and singing (plus maybe a little fun) when we meet for our weekly rehearsal. \n \n 
URL:https://postroadchorus.org/event/rehearsal-6-32-16/
LOCATION:Briarwood Community Center\, 65 Briarwood Circle\, Worcester\, MA\, 01606\, United States
CATEGORIES:Rehearsal
ATTACH;FMTTYPE=image/png:https://postroadchorus.org/wp-content/uploads/2024/01/Rehearsal-2.png
GEO:42.3169828;-71.7718395
X-APPLE-STRUCTURED-LOCATION;VALUE=URI;X-ADDRESS=Briarwood Community Center 65 Briarwood Circle Worcester MA 01606 United States;X-APPLE-RADIUS=500;X-TITLE=65 Briarwood Circle:geo:-71.7718395,42.3169828
END:VEVENT
BEGIN:VEVENT
DTSTART;TZID=America/New_York:20250204T190000
DTEND;TZID=America/New_York:20250204T213000
DTSTAMP:20260425T131909
CREATED:20250130T171256Z
LAST-MODIFIED:20250130T171257Z
UID:10000076-1738695600-1738704600@postroadchorus.org
SUMMARY:Rehearsal
DESCRIPTION:Join us for an evening of vocal skill-building and singing (plus maybe a little fun) when we meet for our weekly rehearsal. \n \n 
URL:https://postroadchorus.org/event/rehearsal-6-32-15/
LOCATION:Briarwood Community Center\, 65 Briarwood Circle\, Worcester\, MA\, 01606\, United States
CATEGORIES:Rehearsal
ATTACH;FMTTYPE=image/png:https://postroadchorus.org/wp-content/uploads/2024/01/Rehearsal-2.png
GEO:42.3169828;-71.7718395
X-APPLE-STRUCTURED-LOCATION;VALUE=URI;X-ADDRESS=Briarwood Community Center 65 Briarwood Circle Worcester MA 01606 United States;X-APPLE-RADIUS=500;X-TITLE=65 Briarwood Circle:geo:-71.7718395,42.3169828
END:VEVENT
BEGIN:VEVENT
DTSTART;TZID=America/New_York:20250128T190000
DTEND;TZID=America/New_York:20250128T213000
DTSTAMP:20260425T131909
CREATED:20250123T145114Z
LAST-MODIFIED:20250123T145115Z
UID:10000075-1738090800-1738099800@postroadchorus.org
SUMMARY:Rehearsal
DESCRIPTION:Join us for an evening of vocal skill-building and singing (plus maybe a little fun) when we meet for our weekly rehearsal. \n \n 
URL:https://postroadchorus.org/event/rehearsal-6-32-14/
LOCATION:Briarwood Community Center\, 65 Briarwood Circle\, Worcester\, MA\, 01606\, United States
CATEGORIES:Rehearsal
ATTACH;FMTTYPE=image/png:https://postroadchorus.org/wp-content/uploads/2024/01/Rehearsal-2.png
GEO:42.3169828;-71.7718395
X-APPLE-STRUCTURED-LOCATION;VALUE=URI;X-ADDRESS=Briarwood Community Center 65 Briarwood Circle Worcester MA 01606 United States;X-APPLE-RADIUS=500;X-TITLE=65 Briarwood Circle:geo:-71.7718395,42.3169828
END:VEVENT
BEGIN:VEVENT
DTSTART;TZID=America/New_York:20250121T190000
DTEND;TZID=America/New_York:20250121T213000
DTSTAMP:20260425T131909
CREATED:20250116T174815Z
LAST-MODIFIED:20250116T174851Z
UID:10000074-1737486000-1737495000@postroadchorus.org
SUMMARY:Rehearsal
DESCRIPTION:Join us for an evening of vocal skill-building and singing (plus maybe a little fun) when we meet for our weekly rehearsal. \n \n 
URL:https://postroadchorus.org/event/rehearsal-6-32-13/
LOCATION:Briarwood Community Center\, 65 Briarwood Circle\, Worcester\, MA\, 01606\, United States
CATEGORIES:Rehearsal
ATTACH;FMTTYPE=image/png:https://postroadchorus.org/wp-content/uploads/2024/01/Rehearsal-2.png
GEO:42.3169828;-71.7718395
X-APPLE-STRUCTURED-LOCATION;VALUE=URI;X-ADDRESS=Briarwood Community Center 65 Briarwood Circle Worcester MA 01606 United States;X-APPLE-RADIUS=500;X-TITLE=65 Briarwood Circle:geo:-71.7718395,42.3169828
END:VEVENT
BEGIN:VEVENT
DTSTART;TZID=America/New_York:20250114T190000
DTEND;TZID=America/New_York:20250114T213000
DTSTAMP:20260425T131909
CREATED:20250109T145454Z
LAST-MODIFIED:20250109T145455Z
UID:10000073-1736881200-1736890200@postroadchorus.org
SUMMARY:Rehearsal
DESCRIPTION:Join us for an evening of vocal skill-building and singing (plus maybe a little fun) when we meet for our weekly rehearsal. \n \n 
URL:https://postroadchorus.org/event/rehearsal-6-32-12/
LOCATION:Briarwood Community Center\, 65 Briarwood Circle\, Worcester\, MA\, 01606\, United States
CATEGORIES:Rehearsal
ATTACH;FMTTYPE=image/png:https://postroadchorus.org/wp-content/uploads/2024/01/Rehearsal-2.png
GEO:42.3169828;-71.7718395
X-APPLE-STRUCTURED-LOCATION;VALUE=URI;X-ADDRESS=Briarwood Community Center 65 Briarwood Circle Worcester MA 01606 United States;X-APPLE-RADIUS=500;X-TITLE=65 Briarwood Circle:geo:-71.7718395,42.3169828
END:VEVENT
BEGIN:VEVENT
DTSTART;TZID=America/New_York:20250107T190000
DTEND;TZID=America/New_York:20250107T213000
DTSTAMP:20260425T131909
CREATED:20241218T183103Z
LAST-MODIFIED:20241218T183104Z
UID:10000072-1736276400-1736285400@postroadchorus.org
SUMMARY:Rehearsal
DESCRIPTION:Join us for an evening of vocal skill-building and singing (plus maybe a little fun) when we meet for our weekly rehearsal. \n \n 
URL:https://postroadchorus.org/event/rehearsal-6-32-11/
LOCATION:Briarwood Community Center\, 65 Briarwood Circle\, Worcester\, MA\, 01606\, United States
CATEGORIES:Rehearsal
ATTACH;FMTTYPE=image/png:https://postroadchorus.org/wp-content/uploads/2024/01/Rehearsal-2.png
GEO:42.3169828;-71.7718395
X-APPLE-STRUCTURED-LOCATION;VALUE=URI;X-ADDRESS=Briarwood Community Center 65 Briarwood Circle Worcester MA 01606 United States;X-APPLE-RADIUS=500;X-TITLE=65 Briarwood Circle:geo:-71.7718395,42.3169828
END:VEVENT
BEGIN:VEVENT
DTSTART;TZID=America/New_York:20241214T140000
DTEND;TZID=America/New_York:20241214T150000
DTSTAMP:20260425T131909
CREATED:20241002T134540Z
LAST-MODIFIED:20241210T030129Z
UID:10000457-1734184800-1734188400@postroadchorus.org
SUMMARY:Orchard Grove Assisted Living Performance
DESCRIPTION:On Saturday\, Dec. 14\, Post Road chorus will present holiday music in Shrewsbury at 2 pm
URL:https://postroadchorus.org/event/orchard-grove-assisted-living-performance/
LOCATION:MA\, United States
CATEGORIES:Performance
ATTACH;FMTTYPE=image/png:https://postroadchorus.org/wp-content/uploads/2024/11/Performance.png
END:VEVENT
BEGIN:VEVENT
DTSTART;TZID=America/New_York:20241212T190000
DTEND;TZID=America/New_York:20241212T200000
DTSTAMP:20260425T131909
CREATED:20241002T134329Z
LAST-MODIFIED:20241028T022439Z
UID:10000456-1734030000-1734033600@postroadchorus.org
SUMMARY:Asa Waters Mansion Performance
DESCRIPTION:Our chorus will perform holiday music at the Asa Waters Mansion in Millbury\, MA at 7 pm
URL:https://postroadchorus.org/event/asa-waters-mansion-performance/
LOCATION:Asa Waters Mansion\, Elm Street 123\, Millbury\, MA\, 01527\, United States
CATEGORIES:Performance
ATTACH;FMTTYPE=image/jpeg:https://postroadchorus.org/wp-content/uploads/2024/10/50105046671_8d43b038f4.jpg
GEO:42.1900454;-71.7622408
X-APPLE-STRUCTURED-LOCATION;VALUE=URI;X-ADDRESS=Asa Waters Mansion Elm Street 123 Millbury MA 01527 United States;X-APPLE-RADIUS=500;X-TITLE=Elm Street 123:geo:-71.7622408,42.1900454
END:VEVENT
BEGIN:VEVENT
DTSTART;TZID=America/New_York:20241211T130000
DTEND;TZID=America/New_York:20241211T140000
DTSTAMP:20260425T131909
CREATED:20241002T133938Z
LAST-MODIFIED:20241129T225106Z
UID:10000455-1733922000-1733925600@postroadchorus.org
SUMMARY:Hillside Village Condominiums Performance
DESCRIPTION:Post Road Chorus will perform holiday music at 1 pm
URL:https://postroadchorus.org/event/hillside-village-condominiums-performance/
LOCATION:MA\, United States
CATEGORIES:Performance
ATTACH;FMTTYPE=image/png:https://postroadchorus.org/wp-content/uploads/2024/11/Performance.png
END:VEVENT
BEGIN:VEVENT
DTSTART;TZID=America/New_York:20241210T190000
DTEND;TZID=America/New_York:20241210T213000
DTSTAMP:20260425T131909
CREATED:20241205T144558Z
LAST-MODIFIED:20241208T175930Z
UID:10000068-1733857200-1733866200@postroadchorus.org
SUMMARY:Rehearsal
DESCRIPTION:Join us for an evening of vocal skill-building and singing (plus maybe a little fun) when we meet for our weekly rehearsal. \n \n 
URL:https://postroadchorus.org/event/rehearsal-6-32-10/
LOCATION:Briarwood Community Center\, 65 Briarwood Circle\, Worcester\, MA\, 01606\, United States
CATEGORIES:Rehearsal
ATTACH;FMTTYPE=image/png:https://postroadchorus.org/wp-content/uploads/2024/01/Rehearsal-2.png
GEO:42.3169828;-71.7718395
X-APPLE-STRUCTURED-LOCATION;VALUE=URI;X-ADDRESS=Briarwood Community Center 65 Briarwood Circle Worcester MA 01606 United States;X-APPLE-RADIUS=500;X-TITLE=65 Briarwood Circle:geo:-71.7718395,42.3169828
END:VEVENT
BEGIN:VEVENT
DTSTART;TZID=America/New_York:20241207T190000
DTEND;TZID=America/New_York:20241207T200000
DTSTAMP:20260425T131909
CREATED:20241002T133609Z
LAST-MODIFIED:20241028T022023Z
UID:10000454-1733598000-1733601600@postroadchorus.org
SUMMARY:Old Sturbridge Village Christmas By Candlelight Performance
DESCRIPTION:Come to the Meeting House in OSV to hear Post Road Chorus sing holiday tunes from 7:15 – 7:45 pm.
URL:https://postroadchorus.org/event/old-sturbridge-village-performance/
LOCATION:Old Sturbridge Village\, Old Sturbridge Village Road 1\, Sturbridge\, MA\, 01566\, United States
CATEGORIES:Performance
ATTACH;FMTTYPE=image/webp:https://postroadchorus.org/wp-content/uploads/2024/10/IMG_1828-Copy.webp
GEO:42.1040101;-72.0930962
X-APPLE-STRUCTURED-LOCATION;VALUE=URI;X-ADDRESS=Old Sturbridge Village Old Sturbridge Village Road 1 Sturbridge MA 01566 United States;X-APPLE-RADIUS=500;X-TITLE=Old Sturbridge Village Road 1:geo:-72.0930962,42.1040101
END:VEVENT
BEGIN:VEVENT
DTSTART;TZID=America/New_York:20241203T190000
DTEND;TZID=America/New_York:20241203T213000
DTSTAMP:20260425T131909
CREATED:20241129T221053Z
LAST-MODIFIED:20241129T225841Z
UID:10000067-1733252400-1733261400@postroadchorus.org
SUMMARY:"Holidays in Harmony" Performance
DESCRIPTION:Join us for an evening of vocal skill-building and singing (plus maybe a little fun) when we meet for our weekly rehearsal. \n \n 
URL:https://postroadchorus.org/event/rehearsal-6-32-8/
LOCATION:Briarwood Community Center\, 65 Briarwood Circle\, Worcester\, MA\, 01606\, United States
CATEGORIES:Performance
ATTACH;FMTTYPE=image/png:https://postroadchorus.org/wp-content/uploads/2024/11/Performance.png
GEO:42.3169828;-71.7718395
X-APPLE-STRUCTURED-LOCATION;VALUE=URI;X-ADDRESS=Briarwood Community Center 65 Briarwood Circle Worcester MA 01606 United States;X-APPLE-RADIUS=500;X-TITLE=65 Briarwood Circle:geo:-71.7718395,42.3169828
END:VEVENT
BEGIN:VEVENT
DTSTART;TZID=America/New_York:20241126T190000
DTEND;TZID=America/New_York:20241126T213000
DTSTAMP:20260425T131909
CREATED:20241121T214616Z
LAST-MODIFIED:20241121T214806Z
UID:10000066-1732647600-1732656600@postroadchorus.org
SUMMARY:Rehearsal
DESCRIPTION:Join us for an evening of vocal skill-building and singing (plus maybe a little fun) when we meet for our weekly rehearsal. \n \n 
URL:https://postroadchorus.org/event/rehearsal-6-32-7/
LOCATION:Briarwood Community Center\, 65 Briarwood Circle\, Worcester\, MA\, 01606\, United States
CATEGORIES:Rehearsal
ATTACH;FMTTYPE=image/png:https://postroadchorus.org/wp-content/uploads/2024/01/Rehearsal-2.png
GEO:42.3169828;-71.7718395
X-APPLE-STRUCTURED-LOCATION;VALUE=URI;X-ADDRESS=Briarwood Community Center 65 Briarwood Circle Worcester MA 01606 United States;X-APPLE-RADIUS=500;X-TITLE=65 Briarwood Circle:geo:-71.7718395,42.3169828
END:VEVENT
BEGIN:VEVENT
DTSTART;TZID=America/New_York:20241119T190000
DTEND;TZID=America/New_York:20241119T213000
DTSTAMP:20260425T131909
CREATED:20241114T202515Z
LAST-MODIFIED:20241114T202635Z
UID:10000065-1732042800-1732051800@postroadchorus.org
SUMMARY:Rehearsal
DESCRIPTION:Join us for an evening of vocal skill-building and singing (plus maybe a little fun) when we meet for our weekly rehearsal. \n \n 
URL:https://postroadchorus.org/event/rehearsal-6-32-6/
LOCATION:Briarwood Community Center\, 65 Briarwood Circle\, Worcester\, MA\, 01606\, United States
CATEGORIES:Rehearsal
ATTACH;FMTTYPE=image/png:https://postroadchorus.org/wp-content/uploads/2024/01/Rehearsal-2.png
GEO:42.3169828;-71.7718395
X-APPLE-STRUCTURED-LOCATION;VALUE=URI;X-ADDRESS=Briarwood Community Center 65 Briarwood Circle Worcester MA 01606 United States;X-APPLE-RADIUS=500;X-TITLE=65 Briarwood Circle:geo:-71.7718395,42.3169828
END:VEVENT
END:VCALENDAR