BEGIN:VCALENDAR
VERSION:2.0
PRODID:-//Post Road Chorus - ECPv6.15.17.1//NONSGML v1.0//EN
CALSCALE:GREGORIAN
METHOD:PUBLISH
X-WR-CALNAME:Post Road Chorus
X-ORIGINAL-URL:https://postroadchorus.org
X-WR-CALDESC:Events for Post Road Chorus
REFRESH-INTERVAL;VALUE=DURATION:PT1H
X-Robots-Tag:noindex
X-PUBLISHED-TTL:PT1H
BEGIN:VTIMEZONE
TZID:America/New_York
BEGIN:DAYLIGHT
TZOFFSETFROM:-0500
TZOFFSETTO:-0400
TZNAME:EDT
DTSTART:20230312T070000
END:DAYLIGHT
BEGIN:STANDARD
TZOFFSETFROM:-0400
TZOFFSETTO:-0500
TZNAME:EST
DTSTART:20231105T060000
END:STANDARD
BEGIN:DAYLIGHT
TZOFFSETFROM:-0500
TZOFFSETTO:-0400
TZNAME:EDT
DTSTART:20240310T070000
END:DAYLIGHT
BEGIN:STANDARD
TZOFFSETFROM:-0400
TZOFFSETTO:-0500
TZNAME:EST
DTSTART:20241103T060000
END:STANDARD
BEGIN:DAYLIGHT
TZOFFSETFROM:-0500
TZOFFSETTO:-0400
TZNAME:EDT
DTSTART:20250309T070000
END:DAYLIGHT
BEGIN:STANDARD
TZOFFSETFROM:-0400
TZOFFSETTO:-0500
TZNAME:EST
DTSTART:20251102T060000
END:STANDARD
END:VTIMEZONE
BEGIN:VEVENT
DTSTART;TZID=America/New_York:20241214T140000
DTEND;TZID=America/New_York:20241214T150000
DTSTAMP:20260425T204246
CREATED:20241002T134540Z
LAST-MODIFIED:20241210T030129Z
UID:10000457-1734184800-1734188400@postroadchorus.org
SUMMARY:Orchard Grove Assisted Living Performance
DESCRIPTION:On Saturday\, Dec. 14\, Post Road chorus will present holiday music in Shrewsbury at 2 pm
URL:https://postroadchorus.org/event/orchard-grove-assisted-living-performance/
LOCATION:MA\, United States
CATEGORIES:Performance
ATTACH;FMTTYPE=image/png:https://postroadchorus.org/wp-content/uploads/2024/11/Performance.png
END:VEVENT
BEGIN:VEVENT
DTSTART;TZID=America/New_York:20241212T190000
DTEND;TZID=America/New_York:20241212T200000
DTSTAMP:20260425T204246
CREATED:20241002T134329Z
LAST-MODIFIED:20241028T022439Z
UID:10000456-1734030000-1734033600@postroadchorus.org
SUMMARY:Asa Waters Mansion Performance
DESCRIPTION:Our chorus will perform holiday music at the Asa Waters Mansion in Millbury\, MA at 7 pm
URL:https://postroadchorus.org/event/asa-waters-mansion-performance/
LOCATION:Asa Waters Mansion\, Elm Street 123\, Millbury\, MA\, 01527\, United States
CATEGORIES:Performance
ATTACH;FMTTYPE=image/jpeg:https://postroadchorus.org/wp-content/uploads/2024/10/50105046671_8d43b038f4.jpg
GEO:42.1900454;-71.7622408
X-APPLE-STRUCTURED-LOCATION;VALUE=URI;X-ADDRESS=Asa Waters Mansion Elm Street 123 Millbury MA 01527 United States;X-APPLE-RADIUS=500;X-TITLE=Elm Street 123:geo:-71.7622408,42.1900454
END:VEVENT
BEGIN:VEVENT
DTSTART;TZID=America/New_York:20241211T130000
DTEND;TZID=America/New_York:20241211T140000
DTSTAMP:20260425T204246
CREATED:20241002T133938Z
LAST-MODIFIED:20241129T225106Z
UID:10000455-1733922000-1733925600@postroadchorus.org
SUMMARY:Hillside Village Condominiums Performance
DESCRIPTION:Post Road Chorus will perform holiday music at 1 pm
URL:https://postroadchorus.org/event/hillside-village-condominiums-performance/
LOCATION:MA\, United States
CATEGORIES:Performance
ATTACH;FMTTYPE=image/png:https://postroadchorus.org/wp-content/uploads/2024/11/Performance.png
END:VEVENT
BEGIN:VEVENT
DTSTART;TZID=America/New_York:20241210T190000
DTEND;TZID=America/New_York:20241210T213000
DTSTAMP:20260425T204246
CREATED:20241205T144558Z
LAST-MODIFIED:20241208T175930Z
UID:10000068-1733857200-1733866200@postroadchorus.org
SUMMARY:Rehearsal
DESCRIPTION:Join us for an evening of vocal skill-building and singing (plus maybe a little fun) when we meet for our weekly rehearsal. \n \n 
URL:https://postroadchorus.org/event/rehearsal-6-32-10/
LOCATION:Briarwood Community Center\, 65 Briarwood Circle\, Worcester\, MA\, 01606\, United States
CATEGORIES:Rehearsal
ATTACH;FMTTYPE=image/png:https://postroadchorus.org/wp-content/uploads/2024/01/Rehearsal-2.png
GEO:42.3169828;-71.7718395
X-APPLE-STRUCTURED-LOCATION;VALUE=URI;X-ADDRESS=Briarwood Community Center 65 Briarwood Circle Worcester MA 01606 United States;X-APPLE-RADIUS=500;X-TITLE=65 Briarwood Circle:geo:-71.7718395,42.3169828
END:VEVENT
BEGIN:VEVENT
DTSTART;TZID=America/New_York:20241207T190000
DTEND;TZID=America/New_York:20241207T200000
DTSTAMP:20260425T204246
CREATED:20241002T133609Z
LAST-MODIFIED:20241028T022023Z
UID:10000454-1733598000-1733601600@postroadchorus.org
SUMMARY:Old Sturbridge Village Christmas By Candlelight Performance
DESCRIPTION:Come to the Meeting House in OSV to hear Post Road Chorus sing holiday tunes from 7:15 – 7:45 pm.
URL:https://postroadchorus.org/event/old-sturbridge-village-performance/
LOCATION:Old Sturbridge Village\, Old Sturbridge Village Road 1\, Sturbridge\, MA\, 01566\, United States
CATEGORIES:Performance
ATTACH;FMTTYPE=image/webp:https://postroadchorus.org/wp-content/uploads/2024/10/IMG_1828-Copy.webp
GEO:42.1040101;-72.0930962
X-APPLE-STRUCTURED-LOCATION;VALUE=URI;X-ADDRESS=Old Sturbridge Village Old Sturbridge Village Road 1 Sturbridge MA 01566 United States;X-APPLE-RADIUS=500;X-TITLE=Old Sturbridge Village Road 1:geo:-72.0930962,42.1040101
END:VEVENT
BEGIN:VEVENT
DTSTART;TZID=America/New_York:20241203T190000
DTEND;TZID=America/New_York:20241203T213000
DTSTAMP:20260425T204246
CREATED:20241129T221053Z
LAST-MODIFIED:20241129T225841Z
UID:10000067-1733252400-1733261400@postroadchorus.org
SUMMARY:"Holidays in Harmony" Performance
DESCRIPTION:Join us for an evening of vocal skill-building and singing (plus maybe a little fun) when we meet for our weekly rehearsal. \n \n 
URL:https://postroadchorus.org/event/rehearsal-6-32-8/
LOCATION:Briarwood Community Center\, 65 Briarwood Circle\, Worcester\, MA\, 01606\, United States
CATEGORIES:Performance
ATTACH;FMTTYPE=image/png:https://postroadchorus.org/wp-content/uploads/2024/11/Performance.png
GEO:42.3169828;-71.7718395
X-APPLE-STRUCTURED-LOCATION;VALUE=URI;X-ADDRESS=Briarwood Community Center 65 Briarwood Circle Worcester MA 01606 United States;X-APPLE-RADIUS=500;X-TITLE=65 Briarwood Circle:geo:-71.7718395,42.3169828
END:VEVENT
BEGIN:VEVENT
DTSTART;TZID=America/New_York:20241126T190000
DTEND;TZID=America/New_York:20241126T213000
DTSTAMP:20260425T204246
CREATED:20241121T214616Z
LAST-MODIFIED:20241121T214806Z
UID:10000066-1732647600-1732656600@postroadchorus.org
SUMMARY:Rehearsal
DESCRIPTION:Join us for an evening of vocal skill-building and singing (plus maybe a little fun) when we meet for our weekly rehearsal. \n \n 
URL:https://postroadchorus.org/event/rehearsal-6-32-7/
LOCATION:Briarwood Community Center\, 65 Briarwood Circle\, Worcester\, MA\, 01606\, United States
CATEGORIES:Rehearsal
ATTACH;FMTTYPE=image/png:https://postroadchorus.org/wp-content/uploads/2024/01/Rehearsal-2.png
GEO:42.3169828;-71.7718395
X-APPLE-STRUCTURED-LOCATION;VALUE=URI;X-ADDRESS=Briarwood Community Center 65 Briarwood Circle Worcester MA 01606 United States;X-APPLE-RADIUS=500;X-TITLE=65 Briarwood Circle:geo:-71.7718395,42.3169828
END:VEVENT
BEGIN:VEVENT
DTSTART;TZID=America/New_York:20241119T190000
DTEND;TZID=America/New_York:20241119T213000
DTSTAMP:20260425T204246
CREATED:20241114T202515Z
LAST-MODIFIED:20241114T202635Z
UID:10000065-1732042800-1732051800@postroadchorus.org
SUMMARY:Rehearsal
DESCRIPTION:Join us for an evening of vocal skill-building and singing (plus maybe a little fun) when we meet for our weekly rehearsal. \n \n 
URL:https://postroadchorus.org/event/rehearsal-6-32-6/
LOCATION:Briarwood Community Center\, 65 Briarwood Circle\, Worcester\, MA\, 01606\, United States
CATEGORIES:Rehearsal
ATTACH;FMTTYPE=image/png:https://postroadchorus.org/wp-content/uploads/2024/01/Rehearsal-2.png
GEO:42.3169828;-71.7718395
X-APPLE-STRUCTURED-LOCATION;VALUE=URI;X-ADDRESS=Briarwood Community Center 65 Briarwood Circle Worcester MA 01606 United States;X-APPLE-RADIUS=500;X-TITLE=65 Briarwood Circle:geo:-71.7718395,42.3169828
END:VEVENT
BEGIN:VEVENT
DTSTART;TZID=America/New_York:20241112T190000
DTEND;TZID=America/New_York:20241112T213000
DTSTAMP:20260425T204246
CREATED:20241107T143514Z
LAST-MODIFIED:20241107T143546Z
UID:10000064-1731438000-1731447000@postroadchorus.org
SUMMARY:Rehearsal
DESCRIPTION:Join us for an evening of vocal skill-building and singing (plus maybe a little fun) when we meet for our weekly rehearsal. \n \n 
URL:https://postroadchorus.org/event/rehearsal-6-32-5/
LOCATION:Briarwood Community Center\, 65 Briarwood Circle\, Worcester\, MA\, 01606\, United States
CATEGORIES:Rehearsal
ATTACH;FMTTYPE=image/png:https://postroadchorus.org/wp-content/uploads/2024/01/Rehearsal-2.png
GEO:42.3169828;-71.7718395
X-APPLE-STRUCTURED-LOCATION;VALUE=URI;X-ADDRESS=Briarwood Community Center 65 Briarwood Circle Worcester MA 01606 United States;X-APPLE-RADIUS=500;X-TITLE=65 Briarwood Circle:geo:-71.7718395,42.3169828
END:VEVENT
BEGIN:VEVENT
DTSTART;TZID=America/New_York:20241105T190000
DTEND;TZID=America/New_York:20241105T213000
DTSTAMP:20260425T204246
CREATED:20241031T142003Z
LAST-MODIFIED:20241031T142004Z
UID:10000063-1730833200-1730842200@postroadchorus.org
SUMMARY:Rehearsal
DESCRIPTION:Join us for an evening of vocal skill-building and singing (plus maybe a little fun) when we meet for our weekly rehearsal. \n \n 
URL:https://postroadchorus.org/event/rehearsal-6-32-4/
LOCATION:Briarwood Community Center\, 65 Briarwood Circle\, Worcester\, MA\, 01606\, United States
CATEGORIES:Rehearsal
ATTACH;FMTTYPE=image/png:https://postroadchorus.org/wp-content/uploads/2024/01/Rehearsal-2.png
GEO:42.3169828;-71.7718395
X-APPLE-STRUCTURED-LOCATION;VALUE=URI;X-ADDRESS=Briarwood Community Center 65 Briarwood Circle Worcester MA 01606 United States;X-APPLE-RADIUS=500;X-TITLE=65 Briarwood Circle:geo:-71.7718395,42.3169828
END:VEVENT
BEGIN:VEVENT
DTSTART;TZID=America/New_York:20241029T190000
DTEND;TZID=America/New_York:20241029T213000
DTSTAMP:20260425T204246
CREATED:20241025T002536Z
LAST-MODIFIED:20241025T002537Z
UID:10000062-1730228400-1730237400@postroadchorus.org
SUMMARY:Rehearsal
DESCRIPTION:Join us for an evening of vocal skill-building and singing (plus maybe a little fun) when we meet for our weekly rehearsal. \n \n 
URL:https://postroadchorus.org/event/rehearsal-6-32-3/
LOCATION:Briarwood Community Center\, 65 Briarwood Circle\, Worcester\, MA\, 01606\, United States
CATEGORIES:Rehearsal
ATTACH;FMTTYPE=image/png:https://postroadchorus.org/wp-content/uploads/2024/01/Rehearsal-2.png
GEO:42.3169828;-71.7718395
X-APPLE-STRUCTURED-LOCATION;VALUE=URI;X-ADDRESS=Briarwood Community Center 65 Briarwood Circle Worcester MA 01606 United States;X-APPLE-RADIUS=500;X-TITLE=65 Briarwood Circle:geo:-71.7718395,42.3169828
END:VEVENT
BEGIN:VEVENT
DTSTART;TZID=America/New_York:20241022T190000
DTEND;TZID=America/New_York:20241022T213000
DTSTAMP:20260425T204246
CREATED:20241017T230533Z
LAST-MODIFIED:20241017T230731Z
UID:10000061-1729623600-1729632600@postroadchorus.org
SUMMARY:Rehearsal
DESCRIPTION:Join us for an evening of vocal skill-building and singing (plus maybe a little fun) when we meet for our weekly rehearsal. \n \n 
URL:https://postroadchorus.org/event/rehearsal-6-32-2/
LOCATION:Briarwood Community Center\, 65 Briarwood Circle\, Worcester\, MA\, 01606\, United States
CATEGORIES:Rehearsal
ATTACH;FMTTYPE=image/png:https://postroadchorus.org/wp-content/uploads/2024/01/Rehearsal-2.png
GEO:42.3169828;-71.7718395
X-APPLE-STRUCTURED-LOCATION;VALUE=URI;X-ADDRESS=Briarwood Community Center 65 Briarwood Circle Worcester MA 01606 United States;X-APPLE-RADIUS=500;X-TITLE=65 Briarwood Circle:geo:-71.7718395,42.3169828
END:VEVENT
BEGIN:VEVENT
DTSTART;TZID=America/New_York:20241015T190000
DTEND;TZID=America/New_York:20241015T213000
DTSTAMP:20260425T204246
CREATED:20241005T225236Z
LAST-MODIFIED:20241010T142711Z
UID:10000060-1729018800-1729027800@postroadchorus.org
SUMMARY:Rehearsal
DESCRIPTION:Join us for an evening of vocal skill-building and singing (plus maybe a little fun) when we meet for our weekly rehearsal. \n \n 
URL:https://postroadchorus.org/event/rehearsal-9/
LOCATION:Briarwood Community Center\, 65 Briarwood Circle\, Worcester\, MA\, 01606\, United States
CATEGORIES:Rehearsal
ATTACH;FMTTYPE=image/png:https://postroadchorus.org/wp-content/uploads/2024/01/Rehearsal-2.png
GEO:42.3169828;-71.7718395
X-APPLE-STRUCTURED-LOCATION;VALUE=URI;X-ADDRESS=Briarwood Community Center 65 Briarwood Circle Worcester MA 01606 United States;X-APPLE-RADIUS=500;X-TITLE=65 Briarwood Circle:geo:-71.7718395,42.3169828
END:VEVENT
BEGIN:VEVENT
DTSTART;TZID=America/New_York:20241008T183000
DTEND;TZID=America/New_York:20241008T213000
DTSTAMP:20260425T204246
CREATED:20240826T134545Z
LAST-MODIFIED:20241004T010620Z
UID:10000443-1728412200-1728423000@postroadchorus.org
SUMMARY:Be Our Guest!
DESCRIPTION:Welcome to an evening of music and fun to learn more about our chorus. We’d love to have you join us! \n  \n 
URL:https://postroadchorus.org/event/be-our-guest-night/
LOCATION:Briarwood Community Center\, 65 Briarwood Circle\, Worcester\, MA\, 01606\, United States
CATEGORIES:Guest Night
ATTACH;FMTTYPE=image/png:https://postroadchorus.org/wp-content/uploads/2024/08/2024-Guest-Night-Slider-1.png
GEO:42.3169828;-71.7718395
X-APPLE-STRUCTURED-LOCATION;VALUE=URI;X-ADDRESS=Briarwood Community Center 65 Briarwood Circle Worcester MA 01606 United States;X-APPLE-RADIUS=500;X-TITLE=65 Briarwood Circle:geo:-71.7718395,42.3169828
END:VEVENT
BEGIN:VEVENT
DTSTART;TZID=America/New_York:20241001T190000
DTEND;TZID=America/New_York:20241001T213000
DTSTAMP:20260425T204246
CREATED:20240926T134523Z
LAST-MODIFIED:20240926T134906Z
UID:10000058-1727809200-1727818200@postroadchorus.org
SUMMARY:Rehearsal
DESCRIPTION:Join us for an evening of vocal skill-building and singing (plus maybe a little fun) when we meet for our weekly rehearsal. \n \n 
URL:https://postroadchorus.org/event/rehearsal-6-31/
LOCATION:Briarwood Community Center\, 65 Briarwood Circle\, Worcester\, MA\, 01606\, United States
CATEGORIES:Rehearsal
ATTACH;FMTTYPE=image/png:https://postroadchorus.org/wp-content/uploads/2024/01/Rehearsal-2.png
GEO:42.3169828;-71.7718395
X-APPLE-STRUCTURED-LOCATION;VALUE=URI;X-ADDRESS=Briarwood Community Center 65 Briarwood Circle Worcester MA 01606 United States;X-APPLE-RADIUS=500;X-TITLE=65 Briarwood Circle:geo:-71.7718395,42.3169828
END:VEVENT
BEGIN:VEVENT
DTSTART;TZID=America/New_York:20240924T190000
DTEND;TZID=America/New_York:20240924T213000
DTSTAMP:20260425T204246
CREATED:20240919T173214Z
LAST-MODIFIED:20240920T135514Z
UID:10000057-1727204400-1727213400@postroadchorus.org
SUMMARY:Rehearsal
DESCRIPTION:Join us for an evening of vocal skill-building and singing (plus maybe a little fun) when we meet for our weekly rehearsal. \n \n 
URL:https://postroadchorus.org/event/rehearsal-6-30/
LOCATION:Briarwood Community Center\, 65 Briarwood Circle\, Worcester\, MA\, 01606\, United States
CATEGORIES:Rehearsal
ATTACH;FMTTYPE=image/png:https://postroadchorus.org/wp-content/uploads/2024/01/Rehearsal-2.png
GEO:42.3169828;-71.7718395
X-APPLE-STRUCTURED-LOCATION;VALUE=URI;X-ADDRESS=Briarwood Community Center 65 Briarwood Circle Worcester MA 01606 United States;X-APPLE-RADIUS=500;X-TITLE=65 Briarwood Circle:geo:-71.7718395,42.3169828
END:VEVENT
BEGIN:VEVENT
DTSTART;TZID=America/New_York:20240917T190000
DTEND;TZID=America/New_York:20240917T213000
DTSTAMP:20260425T204246
CREATED:20240912T132407Z
LAST-MODIFIED:20240913T114014Z
UID:10000056-1726599600-1726608600@postroadchorus.org
SUMMARY:Rehearsal
DESCRIPTION:Join us for an evening of vocal skill-building and singing (plus maybe a little fun) when we meet for our weekly rehearsal. \n \n 
URL:https://postroadchorus.org/event/rehearsal-6-29/
LOCATION:Briarwood Community Center\, 65 Briarwood Circle\, Worcester\, MA\, 01606\, United States
CATEGORIES:Rehearsal
ATTACH;FMTTYPE=image/png:https://postroadchorus.org/wp-content/uploads/2024/01/Rehearsal-2.png
GEO:42.3169828;-71.7718395
X-APPLE-STRUCTURED-LOCATION;VALUE=URI;X-ADDRESS=Briarwood Community Center 65 Briarwood Circle Worcester MA 01606 United States;X-APPLE-RADIUS=500;X-TITLE=65 Briarwood Circle:geo:-71.7718395,42.3169828
END:VEVENT
BEGIN:VEVENT
DTSTART;TZID=America/New_York:20240910T190000
DTEND;TZID=America/New_York:20240910T213000
DTSTAMP:20260425T204246
CREATED:20240905T233140Z
LAST-MODIFIED:20240905T233145Z
UID:10000055-1725994800-1726003800@postroadchorus.org
SUMMARY:Rehearsal
DESCRIPTION:Join us for an evening of vocal skill-building and singing (plus maybe a little fun) when we meet for our weekly rehearsal. \n \n 
URL:https://postroadchorus.org/event/rehearsal-6-28/
LOCATION:Briarwood Community Center\, 65 Briarwood Circle\, Worcester\, MA\, 01606\, United States
CATEGORIES:Rehearsal
ATTACH;FMTTYPE=image/png:https://postroadchorus.org/wp-content/uploads/2024/01/Rehearsal-2.png
GEO:42.3169828;-71.7718395
X-APPLE-STRUCTURED-LOCATION;VALUE=URI;X-ADDRESS=Briarwood Community Center 65 Briarwood Circle Worcester MA 01606 United States;X-APPLE-RADIUS=500;X-TITLE=65 Briarwood Circle:geo:-71.7718395,42.3169828
END:VEVENT
BEGIN:VEVENT
DTSTART;TZID=America/New_York:20240903T190000
DTEND;TZID=America/New_York:20240903T213000
DTSTAMP:20260425T204246
CREATED:20240829T124802Z
LAST-MODIFIED:20240829T124803Z
UID:10000054-1725390000-1725399000@postroadchorus.org
SUMMARY:Rehearsal
DESCRIPTION:Join us for an evening of vocal skill-building and singing (plus maybe a little fun) when we meet for our weekly rehearsal. \n \n 
URL:https://postroadchorus.org/event/rehearsal-6-27/
LOCATION:Briarwood Community Center\, 65 Briarwood Circle\, Worcester\, MA\, 01606\, United States
CATEGORIES:Rehearsal
ATTACH;FMTTYPE=image/png:https://postroadchorus.org/wp-content/uploads/2024/01/Rehearsal-2.png
GEO:42.3169828;-71.7718395
X-APPLE-STRUCTURED-LOCATION;VALUE=URI;X-ADDRESS=Briarwood Community Center 65 Briarwood Circle Worcester MA 01606 United States;X-APPLE-RADIUS=500;X-TITLE=65 Briarwood Circle:geo:-71.7718395,42.3169828
END:VEVENT
BEGIN:VEVENT
DTSTART;TZID=America/New_York:20240827T190000
DTEND;TZID=America/New_York:20240827T213000
DTSTAMP:20260425T204246
CREATED:20240822T123948Z
LAST-MODIFIED:20240822T124028Z
UID:10000053-1724785200-1724794200@postroadchorus.org
SUMMARY:Rehearsal
DESCRIPTION:Join us for an evening of vocal skill-building and singing (plus maybe a little fun) when we meet for our weekly rehearsal. \n \n 
URL:https://postroadchorus.org/event/rehearsal-6-26/
LOCATION:Briarwood Community Center\, 65 Briarwood Circle\, Worcester\, MA\, 01606\, United States
CATEGORIES:Rehearsal
ATTACH;FMTTYPE=image/png:https://postroadchorus.org/wp-content/uploads/2024/01/Rehearsal-2.png
GEO:42.3169828;-71.7718395
X-APPLE-STRUCTURED-LOCATION;VALUE=URI;X-ADDRESS=Briarwood Community Center 65 Briarwood Circle Worcester MA 01606 United States;X-APPLE-RADIUS=500;X-TITLE=65 Briarwood Circle:geo:-71.7718395,42.3169828
END:VEVENT
BEGIN:VEVENT
DTSTART;TZID=America/New_York:20240820T190000
DTEND;TZID=America/New_York:20240820T213000
DTSTAMP:20260425T204246
CREATED:20240815T134259Z
LAST-MODIFIED:20240815T134609Z
UID:10000052-1724180400-1724189400@postroadchorus.org
SUMMARY:Rehearsal
DESCRIPTION:Join us for an evening of vocal skill-building and singing (plus maybe a little fun) when we meet for our weekly rehearsal. \n \n 
URL:https://postroadchorus.org/event/rehearsal-6-25/
LOCATION:Briarwood Community Center\, 65 Briarwood Circle\, Worcester\, MA\, 01606\, United States
CATEGORIES:Rehearsal
ATTACH;FMTTYPE=image/png:https://postroadchorus.org/wp-content/uploads/2024/01/Rehearsal-2.png
GEO:42.3169828;-71.7718395
X-APPLE-STRUCTURED-LOCATION;VALUE=URI;X-ADDRESS=Briarwood Community Center 65 Briarwood Circle Worcester MA 01606 United States;X-APPLE-RADIUS=500;X-TITLE=65 Briarwood Circle:geo:-71.7718395,42.3169828
END:VEVENT
BEGIN:VEVENT
DTSTART;TZID=America/New_York:20240813T190000
DTEND;TZID=America/New_York:20240813T213000
DTSTAMP:20260425T204246
CREATED:20240808T140907Z
LAST-MODIFIED:20240808T141005Z
UID:10000051-1723575600-1723584600@postroadchorus.org
SUMMARY:Rehearsal
DESCRIPTION:Join us for an evening of vocal skill-building and singing (plus maybe a little fun) when we meet for our weekly rehearsal. \n \n 
URL:https://postroadchorus.org/event/rehearsal-6-24/
LOCATION:Briarwood Community Center\, 65 Briarwood Circle\, Worcester\, MA\, 01606\, United States
CATEGORIES:Rehearsal
ATTACH;FMTTYPE=image/png:https://postroadchorus.org/wp-content/uploads/2024/01/Rehearsal-2.png
GEO:42.3169828;-71.7718395
X-APPLE-STRUCTURED-LOCATION;VALUE=URI;X-ADDRESS=Briarwood Community Center 65 Briarwood Circle Worcester MA 01606 United States;X-APPLE-RADIUS=500;X-TITLE=65 Briarwood Circle:geo:-71.7718395,42.3169828
END:VEVENT
BEGIN:VEVENT
DTSTART;TZID=America/New_York:20240806T190000
DTEND;TZID=America/New_York:20240806T213000
DTSTAMP:20260425T204246
CREATED:20240731T131754Z
LAST-MODIFIED:20240731T131755Z
UID:10000050-1722970800-1722979800@postroadchorus.org
SUMMARY:Rehearsal
DESCRIPTION:Join us for an evening of vocal skill-building and singing (plus maybe a little fun) when we meet for our weekly rehearsal. \n \n 
URL:https://postroadchorus.org/event/rehearsal-6-23/
LOCATION:Briarwood Community Center\, 65 Briarwood Circle\, Worcester\, MA\, 01606\, United States
CATEGORIES:Rehearsal
ATTACH;FMTTYPE=image/png:https://postroadchorus.org/wp-content/uploads/2024/01/Rehearsal-2.png
GEO:42.3169828;-71.7718395
X-APPLE-STRUCTURED-LOCATION;VALUE=URI;X-ADDRESS=Briarwood Community Center 65 Briarwood Circle Worcester MA 01606 United States;X-APPLE-RADIUS=500;X-TITLE=65 Briarwood Circle:geo:-71.7718395,42.3169828
END:VEVENT
BEGIN:VEVENT
DTSTART;TZID=America/New_York:20240730T190000
DTEND;TZID=America/New_York:20240730T213000
DTSTAMP:20260425T204246
CREATED:20240725T232527Z
LAST-MODIFIED:20240725T232528Z
UID:10000049-1722366000-1722375000@postroadchorus.org
SUMMARY:Rehearsal
DESCRIPTION:Join us for an evening of vocal skill-building and singing (plus maybe a little fun) when we meet for our weekly rehearsal. \n \n 
URL:https://postroadchorus.org/event/rehearsal-6-22/
LOCATION:Briarwood Community Center\, 65 Briarwood Circle\, Worcester\, MA\, 01606\, United States
CATEGORIES:Rehearsal
ATTACH;FMTTYPE=image/png:https://postroadchorus.org/wp-content/uploads/2024/01/Rehearsal-2.png
GEO:42.3169828;-71.7718395
X-APPLE-STRUCTURED-LOCATION;VALUE=URI;X-ADDRESS=Briarwood Community Center 65 Briarwood Circle Worcester MA 01606 United States;X-APPLE-RADIUS=500;X-TITLE=65 Briarwood Circle:geo:-71.7718395,42.3169828
END:VEVENT
BEGIN:VEVENT
DTSTART;TZID=America/New_York:20240723T190000
DTEND;TZID=America/New_York:20240723T213000
DTSTAMP:20260425T204246
CREATED:20240718T150856Z
LAST-MODIFIED:20240723T104623Z
UID:10000048-1721761200-1721770200@postroadchorus.org
SUMMARY:New Song Night
DESCRIPTION:Introducing “Ordinary Miracle”! Join us for an evening of vocal skill-building and singing as we all begin learning a new song (plus maybe a little fun) when we meet for our weekly rehearsal. \n \n 
URL:https://postroadchorus.org/event/rehearsal-6-21/
LOCATION:Briarwood Community Center\, 65 Briarwood Circle\, Worcester\, MA\, 01606\, United States
CATEGORIES:Rehearsal
ATTACH;FMTTYPE=image/png:https://postroadchorus.org/wp-content/uploads/2024/01/New-Song-Night.png
GEO:42.3169828;-71.7718395
X-APPLE-STRUCTURED-LOCATION;VALUE=URI;X-ADDRESS=Briarwood Community Center 65 Briarwood Circle Worcester MA 01606 United States;X-APPLE-RADIUS=500;X-TITLE=65 Briarwood Circle:geo:-71.7718395,42.3169828
END:VEVENT
BEGIN:VEVENT
DTSTART;TZID=America/New_York:20240716T190000
DTEND;TZID=America/New_York:20240716T213000
DTSTAMP:20260425T204246
CREATED:20240712T154003Z
LAST-MODIFIED:20240712T154938Z
UID:10000047-1721156400-1721165400@postroadchorus.org
SUMMARY:Rehearsal
DESCRIPTION:We’re singing the National Anthem at The Bravehearts baseball game at Holy Cross College this evening\, so we won’t be having a regular rehearsal.  Hope to see you next week as you join us for an evening of vocal skill-building and singing (plus maybe a little fun) when we meet for our weekly rehearsal. \n \n 
URL:https://postroadchorus.org/event/rehearsal-6-20/
LOCATION:Briarwood Community Center\, 65 Briarwood Circle\, Worcester\, MA\, 01606\, United States
CATEGORIES:Rehearsal
ATTACH;FMTTYPE=image/png:https://postroadchorus.org/wp-content/uploads/2024/01/Rehearsal-2.png
GEO:42.3169828;-71.7718395
X-APPLE-STRUCTURED-LOCATION;VALUE=URI;X-ADDRESS=Briarwood Community Center 65 Briarwood Circle Worcester MA 01606 United States;X-APPLE-RADIUS=500;X-TITLE=65 Briarwood Circle:geo:-71.7718395,42.3169828
END:VEVENT
BEGIN:VEVENT
DTSTART;TZID=America/New_York:20240709T190000
DTEND;TZID=America/New_York:20240709T213000
DTSTAMP:20260425T204246
CREATED:20240706T124459Z
LAST-MODIFIED:20240708T165229Z
UID:10000046-1720551600-1720560600@postroadchorus.org
SUMMARY:Rehearsal
DESCRIPTION:Join us for an evening of vocal skill-building and singing (plus maybe a little fun) when we meet for our weekly rehearsal. \n \n 
URL:https://postroadchorus.org/event/rehearsal-6-19/
LOCATION:Briarwood Community Center\, 65 Briarwood Circle\, Worcester\, MA\, 01606\, United States
CATEGORIES:Rehearsal
ATTACH;FMTTYPE=image/png:https://postroadchorus.org/wp-content/uploads/2024/01/Rehearsal-2.png
GEO:42.3169828;-71.7718395
X-APPLE-STRUCTURED-LOCATION;VALUE=URI;X-ADDRESS=Briarwood Community Center 65 Briarwood Circle Worcester MA 01606 United States;X-APPLE-RADIUS=500;X-TITLE=65 Briarwood Circle:geo:-71.7718395,42.3169828
END:VEVENT
BEGIN:VEVENT
DTSTART;TZID=America/New_York:20240702T190000
DTEND;TZID=America/New_York:20240702T213000
DTSTAMP:20260425T204246
CREATED:20240627T163424Z
LAST-MODIFIED:20240627T163424Z
UID:10000045-1719946800-1719955800@postroadchorus.org
SUMMARY:Rehearsal
DESCRIPTION:Join us for an evening of vocal skill-building and singing (plus maybe a little fun) when we meet for our weekly rehearsal. \n \n 
URL:https://postroadchorus.org/event/rehearsal-6-18/
LOCATION:Briarwood Community Center\, 65 Briarwood Circle\, Worcester\, MA\, 01606\, United States
CATEGORIES:Rehearsal
ATTACH;FMTTYPE=image/png:https://postroadchorus.org/wp-content/uploads/2024/01/Rehearsal-2.png
GEO:42.3169828;-71.7718395
X-APPLE-STRUCTURED-LOCATION;VALUE=URI;X-ADDRESS=Briarwood Community Center 65 Briarwood Circle Worcester MA 01606 United States;X-APPLE-RADIUS=500;X-TITLE=65 Briarwood Circle:geo:-71.7718395,42.3169828
END:VEVENT
BEGIN:VEVENT
DTSTART;TZID=America/New_York:20240625T190000
DTEND;TZID=America/New_York:20240625T213000
DTSTAMP:20260425T204246
CREATED:20240604T201103Z
LAST-MODIFIED:20240622T015805Z
UID:10000044-1719342000-1719351000@postroadchorus.org
SUMMARY:Rehearsal
DESCRIPTION:Join us for an evening of vocal skill-building and singing (plus maybe a little fun) when we meet for our weekly rehearsal. \n \n 
URL:https://postroadchorus.org/event/rehearsal-6-16/
LOCATION:Briarwood Community Center\, 65 Briarwood Circle\, Worcester\, MA\, 01606\, United States
CATEGORIES:Rehearsal
ATTACH;FMTTYPE=image/png:https://postroadchorus.org/wp-content/uploads/2024/01/Rehearsal-2.png
GEO:42.3169828;-71.7718395
X-APPLE-STRUCTURED-LOCATION;VALUE=URI;X-ADDRESS=Briarwood Community Center 65 Briarwood Circle Worcester MA 01606 United States;X-APPLE-RADIUS=500;X-TITLE=65 Briarwood Circle:geo:-71.7718395,42.3169828
END:VEVENT
BEGIN:VEVENT
DTSTART;TZID=America/New_York:20240618T190000
DTEND;TZID=America/New_York:20240618T213000
DTSTAMP:20260425T204246
CREATED:20240613T144802Z
LAST-MODIFIED:20240613T144803Z
UID:10000043-1718737200-1718746200@postroadchorus.org
SUMMARY:Rehearsal
DESCRIPTION:Join us for an evening of vocal skill-building and singing (plus maybe a little fun) when we meet for our weekly rehearsal. \n \n 
URL:https://postroadchorus.org/event/rehearsal-6-17/
LOCATION:Briarwood Community Center\, 65 Briarwood Circle\, Worcester\, MA\, 01606\, United States
CATEGORIES:Rehearsal
ATTACH;FMTTYPE=image/png:https://postroadchorus.org/wp-content/uploads/2024/01/Rehearsal-2.png
GEO:42.3169828;-71.7718395
X-APPLE-STRUCTURED-LOCATION;VALUE=URI;X-ADDRESS=Briarwood Community Center 65 Briarwood Circle Worcester MA 01606 United States;X-APPLE-RADIUS=500;X-TITLE=65 Briarwood Circle:geo:-71.7718395,42.3169828
END:VEVENT
END:VCALENDAR