BEGIN:VCALENDAR
VERSION:2.0
PRODID:-//Post Road Chorus - ECPv6.15.17.1//NONSGML v1.0//EN
CALSCALE:GREGORIAN
METHOD:PUBLISH
X-ORIGINAL-URL:https://postroadchorus.org
X-WR-CALDESC:Events for Post Road Chorus
REFRESH-INTERVAL;VALUE=DURATION:PT1H
X-Robots-Tag:noindex
X-PUBLISHED-TTL:PT1H
BEGIN:VTIMEZONE
TZID:America/New_York
BEGIN:DAYLIGHT
TZOFFSETFROM:-0500
TZOFFSETTO:-0400
TZNAME:EDT
DTSTART:20230312T070000
END:DAYLIGHT
BEGIN:STANDARD
TZOFFSETFROM:-0400
TZOFFSETTO:-0500
TZNAME:EST
DTSTART:20231105T060000
END:STANDARD
BEGIN:DAYLIGHT
TZOFFSETFROM:-0500
TZOFFSETTO:-0400
TZNAME:EDT
DTSTART:20240310T070000
END:DAYLIGHT
BEGIN:STANDARD
TZOFFSETFROM:-0400
TZOFFSETTO:-0500
TZNAME:EST
DTSTART:20241103T060000
END:STANDARD
BEGIN:DAYLIGHT
TZOFFSETFROM:-0500
TZOFFSETTO:-0400
TZNAME:EDT
DTSTART:20250309T070000
END:DAYLIGHT
BEGIN:STANDARD
TZOFFSETFROM:-0400
TZOFFSETTO:-0500
TZNAME:EST
DTSTART:20251102T060000
END:STANDARD
END:VTIMEZONE
BEGIN:VEVENT
DTSTART;VALUE=DATE:20240509
DTEND;VALUE=DATE:20240513
DTSTAMP:20260424T214310
CREATED:20240106T211525Z
LAST-MODIFIED:20240205T144055Z
UID:10000373-1715212800-1715558399@postroadchorus.org
SUMMARY:2024 Convention
DESCRIPTION:Our Annual Region Convention \nCome to cheer on and be wowed by our region’s amazing choruses!  Three days of inspiring musical events and fun!
URL:https://postroadchorus.org/event/annual-convention-2024/
LOCATION:Symphony Hall\, Court Street 34\, Springfield\, MA\, 01103\, United States
CATEGORIES:Regional Event
ATTACH;FMTTYPE=image/png:https://postroadchorus.org/wp-content/uploads/2024/01/EEE58FAF-EDAC-4E5C-ACEC-F3E59EBA2DFB.png
GEO:42.1008539;-72.5904451
X-APPLE-STRUCTURED-LOCATION;VALUE=URI;X-ADDRESS=Symphony Hall Court Street 34 Springfield MA 01103 United States;X-APPLE-RADIUS=500;X-TITLE=Court Street 34:geo:-72.5904451,42.1008539
END:VEVENT
BEGIN:VEVENT
DTSTART;TZID=America/New_York:20240217T090000
DTEND;TZID=America/New_York:20240217T180000
DTSTAMP:20260424T214310
CREATED:20240105T171653Z
LAST-MODIFIED:20240106T205513Z
UID:10000008-1708160400-1708192800@postroadchorus.org
SUMMARY:Winter WHATCHAMACALLIT Part 2
DESCRIPTION:A Musical Potpourri for Geeks and All Singers A great opportunity to learn\, collaborate and meet singers from throughout Sweet Adelines Region 1. The fee for NON-Sweet Adelines or NON-Region 1 members to attend these events is JUST $10 each. All details at: 2024_Winter_Watchamacallit_Update \n 
URL:https://postroadchorus.org/event/winter-whatchamacallit-part-2/
LOCATION:MA\, United States
CATEGORIES:Regional Event
ATTACH;FMTTYPE=image/png:https://postroadchorus.org/wp-content/uploads/2024/01/Regional-Event.png
END:VEVENT
BEGIN:VEVENT
DTSTART;TZID=America/New_York:20240120T090000
DTEND;TZID=America/New_York:20240120T180000
DTSTAMP:20260424T214310
CREATED:20240105T170832Z
LAST-MODIFIED:20240106T205550Z
UID:10000007-1705741200-1705773600@postroadchorus.org
SUMMARY:Winter WHATCHAMACALLIT Part 1
DESCRIPTION:It’s All About Us! A great opportunity to learn\, collaborate and meet singers from throughout Sweet Adelines Region 1. The fee for NON-Sweet Adelines or NON-Region 1 members to attend these events is JUST $10 each. All details at:  2024_Winter_Watchamacallit_Update
URL:https://postroadchorus.org/event/winter-whatchamacallit/
LOCATION:UMass Amherst\, Campus Center Way 1\, Amherst\, Massachusetts\, 01003\, United States
CATEGORIES:Regional Event
ATTACH;FMTTYPE=image/png:https://postroadchorus.org/wp-content/uploads/2024/01/Regional-Event.png
GEO:42.3912006;-72.5290998
X-APPLE-STRUCTURED-LOCATION;VALUE=URI;X-ADDRESS=UMass Amherst Campus Center Way 1 Amherst Massachusetts 01003 United States;X-APPLE-RADIUS=500;X-TITLE=Campus Center Way 1:geo:-72.5290998,42.3912006
END:VEVENT
END:VCALENDAR